Workbook
Name RESULTADO1: [1]Bases!$A$2:$A$4
Name RESULTADO2: [1]Bases!$C$2:$C$6

Sheet Evaluacion de Proveedor Sub Con
A1: Hoja 1
C2: Evaluación de Proveedores | G2: Código: COM-FOR-003 Versión Nº 03 Fecha Vigencia: 29/11/2019
A4: IDENTIFICACIÓN DEL PROVEEDOR
A5: Razon social: TRANSPORTES ALMEIRA SRL | F5: Actividad/Rubro: SERV. CONTRATADO
A6: Domicilio: | F6: Tel/fax:
A7: Pagina web: | F7: Email:
A8: CUIT: | F8: Fecha de evaluacion: 01-06-2024
A9: Persona de contacto: DENIS ALMEIRA | F9: Cargo: SOCIO GERENTE
A10: MODULO 1: TRAYECTORIA DE LA EMPRESA
A11: Criterio | F11: Puntaje | G11: Observación
A12: Experiencia previa | F12: 1
A13: Plazos de entrega | F13: 0.5
A14: Precio | F14: 1
A15: Condiciones de pago | F15: 1
A16: Documentacion legal e impositiva | F16: 0.5
A17: Respuesta a solicitudes post servicio | F17: 0.5
A18: Asesoria puntual a consultas | F18: 1
A19: Atención personalizada/comunicación | F19: 1
A20: Valor total Trayectoria de la empresa | F20: =SUM(F12:F19) -> 6.5
A21: MODULO 2: SISTEMA DE GESTION DE SEGURIDAD, AMBIENTE Y/O CALIDAD
A22: Certificación de seguridad/medio ambiente/calidad | F22: 0
A23: Registro de no conformidades de Seguridad, Ambiente y/o Calidad | F23: 0 | G23: REGISTRO NO CONFORMIDAD
A24: Auditorias de Seguridad, Ambiente y/o Calidad | F24: 0
A25: Evaluación de Aspectos e Impactos Ambientales e Identificación de peligros y Evaluación de Riesgo | F25: 0
A26: Valor total Sistema de Calidad | F26: =SUM(F22:F25) -> 0
A27: CALIFICACIÓN DEL PROVEEDOR
A28: Modulo 1 | F28: =F20 -> 6.5
A29: Modulo 2 | F29: =F26 -> 0
A30: ='Requisito Personal'!A49:E49 -> Valor total Requisito Personal | F30: =+'Requisito Personal'!F49 -> 3
A31: ='Requisito Vehiculo-Equipo-Maq'!A24:E24 -> Valor total Requisito Vehiculo-Equipo-Maq | F31: =+'Requisito Vehiculo-Equipo-Maq'!F24 -> 1
A32: Requisito SMA-Sec 1 | F32: ='Requisito SMA-Sec 1,2'!F55 -> 1
A33: Requisito SMA-Sec 2 | F33: ='Requisito SMA-Sec 1,2'!F56 -> 1
A34: Requisito SMA-Sec 3 | F34: ='Requisito SMA-Sec 3'!F70 -> 1
A35: Requisito SMA-Sec 4 | F35: ='Requisito SMA-Sec 4,5'!F67 -> 1
A36: Requisito SMA-Sec 5 | F36: ='Requisito SMA-Sec 4,5'!F67 -> 1
A37: Calificación final del proveedor | F37: =SUM(F28:F36) -> 15.5
A38: Referencias: | D38: Rechazado | F38: Aprobado con observaciones | H38: Aprobado
J39: 18 a 21
A40: FIRMAS DE APROBACIÓN
A41: Responsable Compras: | E41: Coordinador/Referente Receptor de Servicio / Producto: | J41: 14 a 17
...

Sheet Requisito Personal
A1: Hoja 2
C2: Evaluación de Proveedores | G2: Código: COM-FOR-003 Versión Nº 03 Fecha Vigencia: 29/11/2019
A4: IDENTIFICACIÓN DEL PROVEEDOR
A5: =+'Evaluacion de Proveedor Sub Con'!A5:E5 -> Razon social: TRANSPORTES ALMEIRA SRL | F5: =+'Evaluacion de Proveedor Sub Con'!F5:H5 -> Actividad/Rubro: SERV. CONTRATADO
A6: =+'Evaluacion de Proveedor Sub Con'!A6:E6 -> Domicilio: | F6: =+'Evaluacion de Proveedor Sub Con'!F6:H6 -> Tel/fax:
A7: =+'Evaluacion de Proveedor Sub Con'!A7:E7 -> Pagina web: | F7: =+'Evaluacion de Proveedor Sub Con'!F7:H7 -> Email:
A8: =+'Evaluacion de Proveedor Sub Con'!A8:E8 -> CUIT: | F8: =+'Evaluacion de Proveedor Sub Con'!F8:H8 -> Fecha de evaluacion: 01-06-2024
A9: =+'Evaluacion de Proveedor Sub Con'!A9:E9 -> Persona de contacto: DENIS ALMEIRA | F9: =+'Evaluacion de Proveedor Sub Con'!F9:H9 -> Cargo: SOCIO GERENTE
A10: Control Documental 1: DOCUMENTACION COMUN A TODAS LA PERSONAS
A11: Requisito | F11: (X) Cumple | G11: Observacion
A12: AFIP FORMULARIO 931 | B12: ITEM 01. AFIP FORMULARIO 931 | C12: ITEM 01. AFIP FORMULARIO 931 | D12: ITEM 01. AFIP FORMULARIO 931 | E12: ITEM 01. AFIP FORMULARIO 931
A13: ACUSE DE PRESENTACION DE DDJJ ANTE AFIP | B13: ITEM 02. ACUSE DE PRESENTACION DE DDJJ ANTE AFIP | C13: ITEM 02. ACUSE DE PRESENTACION DE DDJJ ANTE AFIP | D13: ITEM 02. ACUSE DE PRESENTACION DE DDJJ ANTE AFIP | E13: ITEM 02. ACUSE DE PRESENTACION DE DDJJ ANTE AFIP
A14: COMPROBANTES DE PAGO FORMULARIO 931 | B14: ITEM 03. COMPROBANTES DE PAGO FORMULARIO 931 | C14: ITEM 03. COMPROBANTES DE PAGO FORMULARIO 931 | D14: ITEM 03. COMPROBANTES DE PAGO FORMULARIO 931 | E14: ITEM 03. COMPROBANTES DE PAGO FORMULARIO 931
A15: COMPROBANTES DE PAGO DE PLANES DE PAGO F.931 | B15: ITEM 04. COMPROBANTES DE PAGO DE PLANES DE PAGO F.931 | C15: ITEM 04. COMPROBANTES DE PAGO DE PLANES DE PAGO F.931 | D15: ITEM 04. COMPROBANTES DE PAGO DE PLANES DE PAGO F.931 | E15: ITEM 04. COMPROBANTES DE PAGO DE PLANES DE PAGO F.931
A16: NOMINA DEL PERSONAL INCLUIDO EN EL FORMULARIO 931 | B16: ITEM 05. NOMINA DEL PERSONAL INCLUIDO EN EL FORMULARIO 931 | C16: ITEM 05. NOMINA DEL PERSONAL INCLUIDO EN EL FORMULARIO 931 | D16: ITEM 05. NOMINA DEL PERSONAL INCLUIDO EN EL FORMULARIO 931 | E16: ITEM 05. NOMINA DEL PERSONAL INCLUIDO EN EL FORMULARIO 931
A17: CONSTANCIA DE LIBRE DEUDA SINDICAL Y/O COMPROBANTES DE PAGO CON NOMINA DE PERSONAL | B17: ITEM 06. CONSTANCIA DE LIBRE DEUDA SINDICAL Y/O COMPROBANTES DE PAGO CON NOMINA DE PERSONAL | C17: ITEM 06. CONSTANCIA DE LIBRE DEUDA SINDICAL Y/O COMPROBANTES DE PAGO CON NOMINA DE PERSONAL | D17: ITEM 06. CONSTANCIA DE LIBRE DEUDA SINDICAL Y/O COMPROBANTES DE PAGO CON NOMINA DE PERSONAL | E17: ITEM 06. CONSTANCIA DE LIBRE DEUDA SINDICAL Y/O COMPROBANTES DE PAGO CON NOMINA DE PERSONAL
F18: 1
A19: Control Documental 2: LEGAJO DE ALTAS DE PERSONAL DOCUMENTACION
A20: Requisito | F20: (X) Cumple | G20: Observacion
A21: ALTA DEL TRABAJADOR EN AFIP Y CONSULTA DE RELACIONES LABORALES ACTIVAS AFIP | B21: ITEM 06. ALTA DEL TRABAJADOR EN AFIP Y CONSULTA DE RELACIONES LABORALES ACTIVAS AFIP | C21: ITEM 06. ALTA DEL TRABAJADOR EN AFIP Y CONSULTA DE RELACIONES LABORALES ACTIVAS AFIP | D21: ITEM 06. ALTA DEL TRABAJADOR EN AFIP Y CONSULTA DE RELACIONES LABORALES ACTIVAS AFIP | E21: ITEM 06. ALTA DEL TRABAJADOR EN AFIP Y CONSULTA DE RELACIONES LABORALES ACTIVAS AFIP
A22: FOTOCOPIA DE DNI/PASAPORTE: 1° - 2° HOJA Y ULTIMO DOMICILIO | B22: ITEM 07. FOTOCOPIA DE DNI/PASAPORTE: 1° - 2° HOJA Y ULTIMO DOMICILIO | C22: ITEM 07. FOTOCOPIA DE DNI/PASAPORTE: 1° - 2° HOJA Y ULTIMO DOMICILIO | D22: ITEM 07. FOTOCOPIA DE DNI/PASAPORTE: 1° - 2° HOJA Y ULTIMO DOMICILIO | E22: ITEM 07. FOTOCOPIA DE DNI/PASAPORTE: 1° - 2° HOJA Y ULTIMO DOMICILIO
A23: CONTRATO DE TRABAJO (Plazo Fijo, Eventual, De Temporada) | B23: ITEM 08. CONTRATO DE TRABAJO (Plazo Fijo, Eventual, De Temporada) | C23: ITEM 08. CONTRATO DE TRABAJO (Plazo Fijo, Eventual, De Temporada) | D23: ITEM 08. CONTRATO DE TRABAJO (Plazo Fijo, Eventual, De Temporada) | E23: ITEM 08. CONTRATO DE TRABAJO (Plazo Fijo, Eventual, De Temporada)
A24: CONTRATO DE ART CON NOMINA DEL PERSONAL Y CLAUSULA DE NO REPETICION | B24: ITEM 09. CONTRATO DE ART CON NOMINA DEL PERSONAL Y CLAUSULA DE NO REPETICION | C24: ITEM 09. CONTRATO DE ART CON NOMINA DEL PERSONAL Y CLAUSULA DE NO REPETICION | D24: ITEM 09. CONTRATO DE ART CON NOMINA DEL PERSONAL Y CLAUSULA DE NO REPETICION | E24: ITEM 09. CONTRATO DE ART CON NOMINA DEL PERSONAL Y CLAUSULA DE NO REPETICION
A25: POLIZA DE SEGURO DE VIDA OBLIGATORIO CON NOMINA DEL PERSONAL | B25: ITEM 10. POLIZA DE SEGURO DE VIDA OBLIGATORIO CON NOMINA DEL PERSONAL | C25: ITEM 10. POLIZA DE SEGURO DE VIDA OBLIGATORIO CON NOMINA DEL PERSONAL | D25: ITEM 10. POLIZA DE SEGURO DE VIDA OBLIGATORIO CON NOMINA DEL PERSONAL | E25: ITEM 10. POLIZA DE SEGURO DE VIDA OBLIGATORIO CON NOMINA DEL PERSONAL
A26: CONSTANCIA DE INSCRIPCION ANTE AFIP (Independientes) | B26: ITEM 12. CONSTANCIA DE INSCRIPCION ANTE AFIP (Independientes) | C26: ITEM 12. CONSTANCIA DE INSCRIPCION ANTE AFIP (Independientes) | D26: ITEM 12. CONSTANCIA DE INSCRIPCION ANTE AFIP (Independientes) | E26: ITEM 12. CONSTANCIA DE INSCRIPCION ANTE AFIP (Independientes)
A27: POLIZA DE COBERTURA DE ACCIDENTES PERSONALES CON CLAUSULAS ESPECIALES (Independientes) | B27: ITEM 13. POLIZA DE COBERTURA DE ACCIDENTES PERSONALES CON CLAUSULAS ESPECIALES (Independientes) | C27: ITEM 13. POLIZA DE COBERTURA DE ACCIDENTES PERSONALES CON CLAUSULAS ESPECIALES (Independientes) | D27: ITEM 13. POLIZA DE COBERTURA DE ACCIDENTES PERSONALES CON CLAUSULAS ESPECIALES (Independientes) | E27: ITEM 13. POLIZA DE COBERTURA DE ACCIDENTES PERSONALES CON CLAUSULAS ESPECIALES (Independientes)
A28: COMPROBANTE DE PAGO DE SEGURO DE ACCIDENTES PERSONALES (Independientes) | B28: ITEM 14. COMPROBANTE DE PAGO DE SEGURO DE ACCIDENTES PERSONALES (Independientes) | C28: ITEM 14. COMPROBANTE DE PAGO DE SEGURO DE ACCIDENTES PERSONALES (Independientes) | D28: ITEM 14. COMPROBANTE DE PAGO DE SEGURO DE ACCIDENTES PERSONALES (Independientes) | E28: ITEM 14. COMPROBANTE DE PAGO DE SEGURO DE ACCIDENTES PERSONALES (Independientes)
A29: VISA QUE HABILITE A EJERCER UN EMPLEO (Personal Extranjero) | B29: ITEM 15. VISA QUE HABILITE A EJERCER UN EMPLEO (Personal Extranjero) | C29: ITEM 15. VISA QUE HABILITE A EJERCER UN EMPLEO (Personal Extranjero) | D29: ITEM 15. VISA QUE HABILITE A EJERCER UN EMPLEO (Personal Extranjero) | E29: ITEM 15. VISA QUE HABILITE A EJERCER UN EMPLEO (Personal Extranjero)
A30: COBERTURA DE SEGURO SEGÚN LAS LEYES DEL PAIS DE ORIGEN EMITIDA EN ARGENTINA (Personal Extranjero) - | B30: ITEM 16. COBERTURA DE SEGURO SEGÚN LAS LEYES DEL PAIS DE ORIGEN EMITIDA EN ARGENTINA (Personal Extranjero) - | C30: ITEM 16. COBERTURA DE SEGURO SEGÚN LAS LEYES DEL PAIS DE ORIGEN EMITIDA EN ARGENTINA (Personal Extranjero) - | D30: ITEM 16. COBERTURA DE SEGURO SEGÚN LAS LEYES DEL PAIS DE ORIGEN EMITIDA EN ARGENTINA (Personal Extranjero) - | E30: ITEM 16. COBERTURA DE SEGURO SEGÚN LAS LEYES DEL PAIS DE ORIGEN EMITIDA EN ARGENTINA (Personal Extranjero) -
A31: CARNET DE CONDUCIR (Personal que conduce vehiculos) | B31: ITEM 17. CARNET DE CONDUCIR (Personal que conduce vehiculos) | C31: ITEM 17. CARNET DE CONDUCIR (Personal que conduce vehiculos) | D31: ITEM 17. CARNET DE CONDUCIR (Personal que conduce vehiculos) | E31: ITEM 17. CARNET DE CONDUCIR (Personal que conduce vehiculos)
A32: CURSO DE MANEJO DEFENSIVO (Personal que conduce vehiculos) | B32: ITEM 18. CURSO DE MANEJO DEFENSIVO (Personal que conduce vehiculos) | C32: ITEM 18. CURSO DE MANEJO DEFENSIVO (Personal que conduce vehiculos) | D32: ITEM 18. CURSO DE MANEJO DEFENSIVO (Personal que conduce vehiculos) | E32: ITEM 18. CURSO DE MANEJO DEFENSIVO (Personal que conduce vehiculos)
... A36: CERTIFICADOS DE CURSOS REALIZADOS | B36: ITEM 22. CERTIFICADOS DE CURSOS REALIZADOS | C36: ITEM 22. CERTIFICADOS DE CURSOS REALIZADOS | D36: ITEM 22. CERTIFICADOS DE CURSOS REALIZADOS | E36: ITEM 22. CERTIFICADOS DE CURSOS REALIZADOS
F37: 1
A38: Control Documental 3:DOCUMENTACION MENSUAL DE CADA PERSONA
A39: Requisito | F39: (X) Cumple | G39: Observacion
A40: RECIBOS DE SUELDO | B40: ITEM 09. RECIBOS DE SUELDO | C40: ITEM 09. RECIBOS DE SUELDO | D40: ITEM 09. RECIBOS DE SUELDO | E40: ITEM 09. RECIBOS DE SUELDO
A41: OTRAS RETENCIONES QUE CONSTEN EN EL RECIBO DE SUELDOS | B41: ITEM 10. OTRAS RETENCIONES QUE CONSTEN EN EL RECIBO DE SUELDOS | C41: ITEM 10. OTRAS RETENCIONES QUE CONSTEN EN EL RECIBO DE SUELDOS | D41: ITEM 10. OTRAS RETENCIONES QUE CONSTEN EN EL RECIBO DE SUELDOS | E41: ITEM 10. OTRAS RETENCIONES QUE CONSTEN EN EL RECIBO DE SUELDOS
A42: CONSTANCIA DE ACREDITACION BANCARIA DE SUELDOS | B42: ITEM 11. CONSTANCIA DE ACREDITACION BANCARIA DE SUELDOS | C42: ITEM 11. CONSTANCIA DE ACREDITACION BANCARIA DE SUELDOS | D42: ITEM 11. CONSTANCIA DE ACREDITACION BANCARIA DE SUELDOS | E42: ITEM 11. CONSTANCIA DE ACREDITACION BANCARIA DE SUELDOS
A43: CERTIFICADO DE DENUNCIA FEHACIENTE DE ACCIDENTE A LA ART (EN CASO DE QUE CORRESPONDA) | B43: ITEM 12. CERTIFICADO DE DENUNCIA FEHACIENTE DE ACCIDENTE A LA ART (EN CASO DE QUE CORRESPONDA) | C43: ITEM 12. CERTIFICADO DE DENUNCIA FEHACIENTE DE ACCIDENTE A LA ART (EN CASO DE QUE CORRESPONDA) | D43: ITEM 12. CERTIFICADO DE DENUNCIA FEHACIENTE DE ACCIDENTE A LA ART (EN CASO DE QUE CORRESPONDA) | E43: ITEM 12. CERTIFICADO DE DENUNCIA FEHACIENTE DE ACCIDENTE A LA ART (EN CASO DE QUE CORRESPONDA)
A44: FACTURA POR SERVICIOS (Independientes) | B44: ITEM 13. FACTURA POR SERVICIOS (Independientes) | C44: ITEM 13. FACTURA POR SERVICIOS (Independientes) | D44: ITEM 13. FACTURA POR SERVICIOS (Independientes) | E44: ITEM 13. FACTURA POR SERVICIOS (Independientes)
...

Sheet Hoja4
C3: 0 | D3: No aplica
C4: 0.5 | D4: Falta Requisto
C5: 1 | D5: Cumple Requisto

Sheet Requisito Vehiculo-Equipo-Maq
A1: Hoja 3
C2: Evaluación de Proveedores | G2: Código: COM-FOR-003 Versión Nº 03 Fecha Vigencia: 29/11/2019
A4: IDENTIFICACIÓN DEL PROVEEDOR
A5: =+'Evaluacion de Proveedor Sub Con'!A5:E5 -> Razon social: TRANSPORTES ALMEIRA SRL | F5: =+'Evaluacion de Proveedor Sub Con'!F5:H5 -> Actividad/Rubro: SERV. CONTRATADO
A6: =+'Evaluacion de Proveedor Sub Con'!A6:E6 -> Domicilio: | F6: =+'Evaluacion de Proveedor Sub Con'!F6:H6 -> Tel/fax:
A7: =+'Evaluacion de Proveedor Sub Con'!A7:E7 -> Pagina web: | F7: =+'Evaluacion de Proveedor Sub Con'!F7:H7 -> Email:
A8: =+'Evaluacion de Proveedor Sub Con'!A8:E8 -> CUIT: | F8: =+'Evaluacion de Proveedor Sub Con'!F8:H8 -> Fecha de evaluacion: 01-06-2024
A9: =+'Evaluacion de Proveedor Sub Con'!A9:E9 -> Persona de contacto: DENIS ALMEIRA | F9: =+'Evaluacion de Proveedor Sub Con'!F9:H9 -> Cargo: SOCIO GERENTE
A10: Control Documental 4:CONTROL MENSUAL DE VEHICULOS/MOTOS/EQUIPOS
A11: Requisito | F11: (X) Cumple | G11: Observacion
A12: TITULO DE PROPIEDAD O CONTRATO DE ALQUILER/LEASING | B12: ITEM 02. TITULO DE PROPIEDAD O CONTRATO DE ALQUILER/LEASING | C12: ITEM 02. TITULO DE PROPIEDAD O CONTRATO DE ALQUILER/LEASING | D12: ITEM 02. TITULO DE PROPIEDAD O CONTRATO DE ALQUILER/LEASING | E12: ITEM 02. TITULO DE PROPIEDAD O CONTRATO DE ALQUILER/LEASING
A13: CEDULA VERDE | B13: ITEM 03. CEDULA VERDE | C13: ITEM 03. CEDULA VERDE | D13: ITEM 03. CEDULA VERDE | E13: ITEM 03. CEDULA VERDE
A14: CERTIFICADO DE VERIFICACION TECNICA VEHICULAR | B14: ITEM 04. CERTIFICADO DE VERIFICACION TECNICA VEHICULAR | C14: ITEM 04. CERTIFICADO DE VERIFICACION TECNICA VEHICULAR | D14: ITEM 04. CERTIFICADO DE VERIFICACION TECNICA VEHICULAR | E14: ITEM 04. CERTIFICADO DE VERIFICACION TECNICA VEHICULAR
A15: RUTA (Transporte de Carga) | B15: ITEM 05.RUTA (Transporte de Carga) | C15: ITEM 05.RUTA (Transporte de Carga) | D15: ITEM 05.RUTA (Transporte de Carga) | E15: ITEM 05.RUTA (Transporte de Carga)
A16: CERTIFICADO DE INSCRIPCION EN EL REGISTRO NACIONAL DE TRANSPORTE AUTOMOTOR DE PASAJEROS (Transporte de Personal) | B16: ITEM 06. CERTIFICADO DE INSCRIPCION EN EL REGISTRO NACIONAL DE TRANSPORTE AUTOMOTOR DE PASAJEROS (Transporte de Personal) | C16: ITEM 06. CERTIFICADO DE INSCRIPCION EN EL REGISTRO NACIONAL DE TRANSPORTE AUTOMOTOR DE PASAJEROS (Transporte de Personal) | D16: ITEM 06. CERTIFICADO DE INSCRIPCION EN EL REGISTRO NACIONAL DE TRANSPORTE AUTOMOTOR DE PASAJEROS (Transporte de Personal) | E16: ITEM 06. CERTIFICADO DE INSCRIPCION EN EL REGISTRO NACIONAL DE TRANSPORTE AUTOMOTOR DE PASAJEROS (Transporte de Personal)
A17: HABILITACION MUNICIPAL QUE CORRESPONDA A SU AMBITO DE SERVICIO (Remises) | B17: ITEM 07. Habilitación municipal que corresponda a su ámbito de servicio (Remises) | C17: ITEM 07. Habilitación municipal que corresponda a su ámbito de servicio (Remises) | D17: ITEM 07. Habilitación municipal que corresponda a su ámbito de servicio (Remises) | E17: ITEM 07. Habilitación municipal que corresponda a su ámbito de servicio (Remises)
A18: HABILITACION DE EQUIPOS ESPECIALES (Grúas, Excavadoras, Palas Mecánicas y otras) | B18: ITEM 08. HABILITACION DE EQUIPOS ESPECIALES (Grúas, Excavadoras, Palas Mecánicas y otras) | C18: ITEM 08. HABILITACION DE EQUIPOS ESPECIALES (Grúas, Excavadoras, Palas Mecánicas y otras) | D18: ITEM 08. HABILITACION DE EQUIPOS ESPECIALES (Grúas, Excavadoras, Palas Mecánicas y otras) | E18: ITEM 08. HABILITACION DE EQUIPOS ESPECIALES (Grúas, Excavadoras, Palas Mecánicas y otras)
A19: POLIZA DE SEGURO DE RESPONSABILIDAD CIVIL CON CLAUSULAS ESPECIALES | B19: ITEM 09. POLIZA DE SEGURO DE RESPONSABILIDAD CIVIL CON CLAUSULAS ESPECIALES | C19: ITEM 09. POLIZA DE SEGURO DE RESPONSABILIDAD CIVIL CON CLAUSULAS ESPECIALES | D19: ITEM 09. POLIZA DE SEGURO DE RESPONSABILIDAD CIVIL CON CLAUSULAS ESPECIALES | E19: ITEM 09. POLIZA DE SEGURO DE RESPONSABILIDAD CIVIL CON CLAUSULAS ESPECIALES
A20: COMPROBANTE DE PAGO DE LA POLIZA DE SEGURO DE RESPONSABILIDAD CIVIL | B20: ITEM 10. COMPROBANTE DE PAGO DE LA POLIZA DE SEGURO DE RESPONSABILIDAD CIVIL | C20: ITEM 10. COMPROBANTE DE PAGO DE LA POLIZA DE SEGURO DE RESPONSABILIDAD CIVIL | D20: ITEM 10. COMPROBANTE DE PAGO DE LA POLIZA DE SEGURO DE RESPONSABILIDAD CIVIL | E20: ITEM 10. COMPROBANTE DE PAGO DE LA POLIZA DE SEGURO DE RESPONSABILIDAD CIVIL
A21: POLIZA DE SEGURO TECNICO CON CLAUSULAS ESPECIALES (Grúas, Excavadoras, Palas Mecánicas y otras) | B21: ITEM 11. POLIZA DE SEGURO TECNICO CON CLAUSULAS ESPECIALES (Grúas, Excavadoras, Palas Mecánicas y otras) | C21: ITEM 11. POLIZA DE SEGURO TECNICO CON CLAUSULAS ESPECIALES (Grúas, Excavadoras, Palas Mecánicas y otras) | D21: ITEM 11. POLIZA DE SEGURO TECNICO CON CLAUSULAS ESPECIALES (Grúas, Excavadoras, Palas Mecánicas y otras) | E21: ITEM 11. POLIZA DE SEGURO TECNICO CON CLAUSULAS ESPECIALES (Grúas, Excavadoras, Palas Mecánicas y otras)
A22: COMPROBANTE DE PAGO DE LA POLIZA DE SEGURO TECNICO | B22: ITEM 12. COMPROBANTE DE PAGO DE LA POLIZA DE SEGURO TECNICO | C22: ITEM 12. COMPROBANTE DE PAGO DE LA POLIZA DE SEGURO TECNICO | D22: ITEM 12. COMPROBANTE DE PAGO DE LA POLIZA DE SEGURO TECNICO | E22: ITEM 12. COMPROBANTE DE PAGO DE LA POLIZA DE SEGURO TECNICO
F23: 1
A24: Valor total Requisito Vehiculo-Equipo-Maq | F24: =F23 -> 1
A25: Responsable Compras: | E25: Referente Control Documental
A26: Firma | E26: Firma

Sheet Requisito SMA-Sec 1,2
A1: hoja 4
C2: Evaluación de Proveedores | G2: Código: COM-FOR-003 Versión Nº 03 Fecha Vigencia: 29/11/2019
A4: IDENTIFICACIÓN DEL PROVEEDOR- Seccion 1
A5: =+'Evaluacion de Proveedor Sub Con'!A5:E5 -> Razon social: TRANSPORTES ALMEIRA SRL | F5: =+'Evaluacion de Proveedor Sub Con'!F5:H5 -> Actividad/Rubro: SERV. CONTRATADO
A6: =+'Evaluacion de Proveedor Sub Con'!A6:E6 -> Domicilio: | F6: =+'Evaluacion de Proveedor Sub Con'!F6:H6 -> Tel/fax:
A7: =+'Evaluacion de Proveedor Sub Con'!A7:E7 -> Pagina web: | F7: =+'Evaluacion de Proveedor Sub Con'!F7:H7 -> Email:
A8: =+'Evaluacion de Proveedor Sub Con'!A8:E8 -> CUIT: | F8: =+'Evaluacion de Proveedor Sub Con'!F8:H8 -> Fecha de evaluacion: 01-06-2024
A9: =+'Evaluacion de Proveedor Sub Con'!A9:E9 -> Persona de contacto: DENIS ALMEIRA | F9: =+'Evaluacion de Proveedor Sub Con'!F9:H9 -> Cargo: SOCIO GERENTE
A10: 2.4 - Lista de actividades / trabajos que realiza:
A18: Requisito SMA Seccion 1 | E18: 1
A19: Seccion 2- Politica, objetivos, metas, organización, estandares y regulaciones SMA 1(pto)
A20: Requisito | F20: (X) Cumple | G20: Observacion
A21: a: Liderazgo y compromiso HSE:
A22: a.1. Leyó las evidencias concretas del compromiso HSE en todos los niveles de su organización: Comente
A24: b. Política HSE
A25: b.1¿Tiene su empresa una política de HSE declarada? En caso afirmativo, anexe el documento
A27: b.2. ¿La política HSE ha sido formalmente divulgada a los empleados y trabajadores? Explique
A29: c. Objetivos y Metas HSE
A30: c.1. ¿Define su empresa anualmente o de manera periódica los objetivos y metas HSE a ser cumplidos por los diferentes niveles de la organización? En caso afirmativo, anexe objetivos y metas
A33: d. Leyes y Regulaciones
A34: d.1. ¿Cuenta la empresa con un listado de leyes y regulaciones de aplicación a sus actividades de trabajo? Explique (anexe el listado)
A36: d.2.¿Tiene la empresa un sistema que le advierta la actualización y la publicación de nuevas leyes y regulaciones? Explique y adjunte ejemplos
A38: e. Normas y Procedimientos de Seguridad del Contratista
A39: e.1. Adjuntar la lista de las normas y procedimientos HSE vigentes.
... A52: g.1.¿Organiza su empresa reuniones diarias de seguridad antes del inicio de los trabajos (pre-job meeting)? Justifique y adjunte minutas
F54: 1
A55: Valor total Requisito SMA Seccion 1 | F55: =E18 -> 1
A56: Valor total Requisito SMA Seccion 2 | F56: =F54 -> 1
A57: Responsable Compras: | E57: Referente SMA
A58: Firma | E58: Firma

Sheet Requisito SMA-Sec 3
A1: hoja 5
C2: Evaluación de Proveedores | G2: Código: COM-FOR-003 Versión Nº 03 Fecha Vigencia: 29/11/2019
A4: IDENTIFICACIÓN DEL PROVEEDOR
A5: =+'Evaluacion de Proveedor Sub Con'!A5:E5 -> Razon social: TRANSPORTES ALMEIRA SRL | F5: =+'Evaluacion de Proveedor Sub Con'!F5:H5 -> Actividad/Rubro: SERV. CONTRATADO
A6: =+'Evaluacion de Proveedor Sub Con'!A6:E6 -> Domicilio: | F6: =+'Evaluacion de Proveedor Sub Con'!F6:H6 -> Tel/fax:
A7: =+'Evaluacion de Proveedor Sub Con'!A7:E7 -> Pagina web: | F7: =+'Evaluacion de Proveedor Sub Con'!F7:H7 -> Email:
A8: =+'Evaluacion de Proveedor Sub Con'!A8:E8 -> CUIT: | F8: =+'Evaluacion de Proveedor Sub Con'!F8:H8 -> Fecha de evaluacion: 01-06-2024
A9: =+'Evaluacion de Proveedor Sub Con'!A9:E9 -> Persona de contacto: DENIS ALMEIRA | F9: =+'Evaluacion de Proveedor Sub Con'!F9:H9 -> Cargo: SOCIO GERENTE
A10: Sección 3 - Identificación de Peligros y Evaluación de Riesgos
A11: Requisito | F11: (X) Cumple | G11: Observacion
A12: h.Identificación de Peligros y Evaluación de Riesgos
A13: h.1. ¿Tiene sus empresa un procedimiento efectivo para analizar los riesgos? Explique (adjunte procedimiento/normativa)
A15: h.2.¿Cuáles otras técnicas/métodos son usadas por su empresa para identificar los peligros, analizar los riesgos y definir las medidas de control? Explique (anexe documentos)
A18: i. Equipos de Protección Personal (EEP)
A19: i.1.¿Tiene su empresa una política de suministro y uso de EEP requerido para tareas especializadas? Explique (anexe el documento)
A22: i.2.Suministre una lista de EEP dependiendo del tipo / alcance del trabajo.Explique (anexe listado de EPP por puesto y planilla de constancia de entrega de EPP)
A25: i.3.Suministre los registros de asistencia de capacitaciones sobre cómo usar los EEP, con fechas y duración de las capacitaciones del último año. Explique (anexe registros de capacitaciones)
A28: j. Riesgos vinculados con el uso de Maquinas / Equipos / Herramientas
A29: j.1.¿Se tienen copia de los manuales de operación de los equipos principales disponibles para ser utilizados en las áreas donde se desarrollan los trabajos? Indicar dónde se guardan
A32: j.2. ¿Se tienen copia de las instrucciones de seguridad disponibles para ser utilizadas en las aéreas donde se desarrollan los trabajos? Indicar dónde se guardan
A35: k. Gestión de otros riesgos específicos
A36: k.1.Suministre copia de las reglas y procedimientos que aplican a operaciones que incluyen riesgos específicos, incluyendo pero no limitado a: Andamios, Manejo e Izamiento de Cargas, Excavaciones, Espacios Confinados, Trabajos en Altura, Operaciones Simultaneas y Aislación de Energías Peligrosas.
... A67: n.1.Suministre una copia de su política relacionada con la gestión de transporte vial.
F69: 1
A70: Valor total Requisito SMA Seccion 3 | F70: =F69 -> 1
A71: Responsable Compras: | E71: Referente SMA
A72: Firma | E72: Firma

Sheet Requisito SMA-Sec 4,5
A1: hoja 6
C2: Evaluación de Proveedores | G2: Código: COM-FOR-003 Versión Nº 03 Fecha Vigencia: 29/11/2019
A4: IDENTIFICACIÓN DEL PROVEEDOR
A5: =+'Evaluacion de Proveedor Sub Con'!A5:E5 -> Razon social: TRANSPORTES ALMEIRA SRL | F5: =+'Evaluacion de Proveedor Sub Con'!F5:H5 -> Actividad/Rubro: SERV. CONTRATADO
A6: =+'Evaluacion de Proveedor Sub Con'!A6:E6 -> Domicilio: | F6: =+'Evaluacion de Proveedor Sub Con'!F6:H6 -> Tel/fax:
A7: =+'Evaluacion de Proveedor Sub Con'!A7:E7 -> Pagina web: | F7: =+'Evaluacion de Proveedor Sub Con'!F7:H7 -> Email:
A8: =+'Evaluacion de Proveedor Sub Con'!A8:E8 -> CUIT: | F8: =+'Evaluacion de Proveedor Sub Con'!F8:H8 -> Fecha de evaluacion: 01-06-2024
A9: =+'Evaluacion de Proveedor Sub Con'!A9:E9 -> Persona de contacto: DENIS ALMEIRA | F9: =+'Evaluacion de Proveedor Sub Con'!F9:H9 -> Cargo: SOCIO GERENTE
A10: Sección 4 - Capacitación y Habilidades HSE
A11: Requisito | F11: (X) Cumple | G11: Observacion
A12: o. General para todo el Personal
A13: o.1.¿Qué mecanismos de control tiene su empresa para asegurar que sus empleados tienen el conocimiento básico en materia de HSE y cómo se mantienen actualizados? Explique(anexe documen)
A16: o.2. Suministre detalles del plan de capacitación HSE de la empresa para sus trabajadores (titulo de la capacitación, frecuencia, duración, entidad que organiza la capacitación) y el grado de cumplimiento de este plan los últimos 12 meses.
A20: o.3.¿Existe una inducción HSE que informe sobre los peligros asociados con la naturaleza de los trabajos? En caso afirmativo, suministre copia de los registros de asistencia del personal de los últimos 6 meses.
A24: p. Capacitación y Certificados para Trabajos Especializados
A25: p.1.¿Tiene Usted identificadas las actividades de su empresa donde una capacitación especializada es requerida para confrontar peligros específicos? En caso afirmativo, elabore una lista de las tareas/ocupaciones, el detalle de las capacitaciones suministradas, así como las certificaciones obtenidas por su personal. (anexe documentos)
A30: Requisito SMA Seccion 1 | E30: 1
A31: Sección 5 - Investigacion de incidentes, respuesta a Emergencias, auditorias, inspecciones, medicion y reporte Gestion SMA
A33: q. Respuesta a Emergencias
A34: q.1. Suministre una copia del Plan de Respuesta a Emergencias, el tipo y frecuencia de los simulacros. Anexe documentos
A36: q.2.Suministre una copia de los procedimientos de la empresa para la limpieza de derrames. Anexe documentos
A38: r.Reporte e Investigación de Incidentes
A39: r.1.Suministre una copia de su procedimiento para reportar e investigar los Incidentes y para verificar el cumplimiento de las acciones correctivas de incidentes.
A42: r.2.Suministre el listado de los Incidentes HSE ocurridos en los últimos 2 años.
A44: r.3. Suministre copia de las acciones correctivas derivadas de los 3 últimos incidentes.
A46: s.Auditorías, Inspecciones y Visitas HSE
A47: s.1.Política de Inspección, visitas y auditorías
A48: s.1.1.¿Tiene su empresa un política de inspecciones/ visitas y auditorías a los Sitios de trabajo para verificar la ejecución de los trabajos y la aplicación de las medidas de control de riesgos? En caso afirmativo, anexe una copia
A52: s.1.2.¿Cómo se verifica el cumplimiento de las acciones correctivas derivadas de las inspecciones/visitas y auditorías? Explique (anexe documentos)
A55: s.2. Control de Equipos, Herramientas y Esquemas de Mantenimiento
A56: s.2.1¿Dispone su empresa de procedimientos para la inspección y mantenimiento de equipos y herramientas? | G56: Explique (anexe copia de los mismos)
A58: s.2.2.Suministre copias de los registros que demuestren el cumplimiento de programas de inspección y ejecución de mantenimiento a equipos y herramientas de los últimos 12 meses. | G58: Anexe el documento
A61: t. Medición y Reporte de la Gestión HSE
A62: t.1¿Tiene su empresa un reporte mensual y/o anual HSE que permita medir y hacer el seguimiento de la gestión HSE? En caso afirmativo, suministre una copia de los reportes mensuales de los últimos 3 meses.
F66: 1
A67: Valor total Requisito SMA Seccion 4 | F67: =E30 -> 1
A68: Valor total Requisito SMA Seccion 5 | F68: =F66 -> 1
A69: Responsable Compras: | E69: Referente SMA
A70: Firma | E70: Firma
