Workbook
Name A: #REF!
Name A_IMPRESIÓN_IM: #REF!
Name ajusteMO: 'MANO DE OBRA'!$BY$299
Name ajusteMO: #REF!
Name bipp: [1]SPLITS!#REF!
Name CUADRO_TARIFARIO_FINAL: 'APROPIACION A PRECIOS'!$C$101
Name Equipo_pesado: 'INMUEBLES EQUIPOS Y RODADOS'!$F$20
Name IMPRI: #REF!
Name IMPRIM: #REF!
Name IMPRIMIR: #REF!
Name INCORPORA: #REF!
Name Indice: Validaciones!#REF!
Name Indices: Validaciones!$B$79:$B$83
Name Indices2: Validaciones!$B$87:$B$91
Name Indices3: Validaciones!$B$94:$B$98
Name INFORME_SUELDOS: #REF!
Name Insumos_Directo_Indirecto: Validaciones!$B$61:$B$63
Name mo: #REF!
Name OBRA: #REF!
Name P_P_MO: #REF!
Name T_Actividad: Validaciones!$B$4:$B$8
Name T_Gremio: Validaciones!$D$4:$D$38
Name T_Nro_CCT: Validaciones!$F$4:$F$19
Name T_Provincia: Validaciones!$B$11:$B$17
Name T_Relac_con_servic: Validaciones!$B$39:$B$42
Name T_rubro: Validaciones!$F$30:$F$34
Name T_sino: Validaciones!$B$28:$B$29
Name T_Situac_actual: Validaciones!$B$34:$B$35
Name T_Tipo_neumat: Validaciones!$B$46:$B$47
Name T_UUNN: Validaciones!$B$23:$B$25
Name tarifario_final: 'APROPIACION A PRECIOS'!$B$102
Name Tipo_Insumos: Validaciones!$B$69:$B$73
Name VARIACIONES_POR_ITEM: 'APROPIACION A PRECIOS'!$AG$11
Name Vehículos: Validaciones!#REF!
Name Zona: Validaciones!$B$51:$B$57

Sheet Indice
B2: TEMA | C2: ACCESO
C3: (Para acceder al tema presione en el cuadro)
B4: Componentes del Costos
B5: Inmuebles Equipos y Rodados | C5: IER
B6: Mano de Obra | C6: MO Aj CCT a ENERO 2012
B7: Materiales e Insumos | C7: MI
B8: Combustibles, Lubricantes y Mantenimiento | C8: CLNyM | E8: PARA RETORNAR PRESIONE INDICE
B9: Cuadro Resumen | C9: RESUMEN
B10: Apropiación a Tarifas | C10: APROPIACION A TARIFAS
B12: Ajustes
B13: Resumen del Análisis | C13: RESUMEN ANALISIS
B14: Resumen de Ajustes por incrementos Salariales y Aplicación de Indices | C14: RESUMEN AJUSTES SALARIALES
B15: Calculos de ajustes de Mano de Obra por incrementos salariales | C15: CALCULOS AJ. MO
B17: Tarifas
B18: Cuadro Tarifario antes de Ajustes Salariales | C18: TARIFAS ANTES AJUSTES
B19: Variaciones por Item | C19: VARIACION POR ITEM
B20: Cuadro Tarifario Final | C20: TARIFARIO FINAL
B22: Aplicación de Indices
B23: Incidencia de cada Indice en los Componentes | C23: INCIDENCIA DE INDICES POR COMPONENTE
B25: Directos e Indirectos
B26: Resumen de costos Directos e Indirectos | C26: DIRECTOS e INDIRECTOS

Sheet Cuadros EFirma
B5: DATOS ESTADÍSTICOS | C5: VALORES
B6: Personal afectado al contrato | C6: =SUMPRODUCT(#REF!,#REF!) -> #REF!
B7: Monto promedio por persona s/certif. mensual | C7: =+RESUMEN!$D$37/'Cuadros EFirma'!C6 -> #REF!
B12: Componente del Costo | C12: Pretendido | D12: Ajustado | E12: Diferencias | F12: SINTESIS DEL AJUSTE
B13: Inmuebles Equipos y Rodados | C13: =+Análisis!I13 -> 0 | D13: =+Análisis!J13 -> 0 | E13: =+D13-C13 -> 0 | F13: =Análisis!N13 -> 0
B14: Mano de Obra | C14: =+Análisis!I14 -> 0 | D14: =+Análisis!J14 -> #REF! | E14: =+D14-C14 -> #REF! | F14: =Análisis!N14 -> 0
B15: Materiales e Insumos | C15: =+Análisis!I19 -> 0 | D15: =+Análisis!J19 -> 0 | E15: =+D15-C15 -> 0 | F15: =Análisis!N19 -> 0
B16: Combustibles Lubricantes Neumáticos Mantenimiento | C16: =+Análisis!I20+Análisis!I21 -> 0 | D16: =+Análisis!J20+Análisis!J21 -> 0 | E16: =+D16-C16 -> 0 | F16: =Análisis!N20&"; y "&Análisis!N21 -> ; y
B17: Overhead | C17: =+Análisis!I24 -> 0 | D17: =+Análisis!J24 -> #REF! | E17: =+D17-C17 -> #REF! | F17: =Análisis!N24 -> 0
B18: Impuestos | C18: =+Análisis!I31 -> 0 | D18: =+Análisis!J31 -> #REF! | E18: =+D18-C18 -> #REF! | F18: =Análisis!N31 -> 0
B19: Beneficio | C19: =+Análisis!I32 -> 0 | D19: =+Análisis!J32 -> #REF! | E19: =+D19-C19 -> #REF! | F19: =Análisis!N32 -> 0
B20: Costo Financiero | C20: =+Análisis!I35 -> 0 | D20: =+Análisis!J35 -> #REF! | E20: =+D20-C20 -> #REF! | F20: =Análisis!N35 -> 0
B21: Total | C21: =SUM(C13:C20) -> 0 | D21: =SUM(D13:D20) -> #REF! | E21: =+D21-C21 -> #REF!
B26: CERTIFICACIONES | C26: Según Tarifa Ajustada sin 10% | D26: Según Tarifa Ajustada + 10% de M.O. (Actual) | E26: Según Tarifa Ajustada Mano de Obra Nuevo CCT
B27: Montos de Certificación | C27: =+C21 -> 0 | D27: =+D21 -> #REF! | E27: =+'APROPIACION A PRECIOS'!J194 -> #DIV/0!
B28: Impacto mensual | D28: =+D27-C27 -> #REF! | E28: =+E27-D27 -> #DIV/0!
B29: Porcentajes de variación respecto a actual | D29: =+D27/C27-1 -> #REF! | E29: =+E27/D27-1 -> #DIV/0!
B33: CERTIFICACIONES | C33: Según Tarifa Ajustada sin 10% | D33: Según Tarifa Ajustada + 10% de M.O. (Actual) | E33: Según Tarifa Ajustada Mano de Obra Nuevo CCT
B34: Montos de Certificación | C34: =+RESUMEN!D37 -> 0 | D34: =+RESUMEN!G37 -> #REF! | E34: =+RESUMEN!J37 -> 0
B35: Variación respecto a certificacion ajustada sin el 10% | D35: =+D34/C34-1 -> #REF! | E35: =+E34/C34-1 -> #DIV/0!
B36: Porcentajes de variación respecto a actual | E36: =(+E34/D34)-1 -> #REF!
B43: AJUSTE DE MANO DE OBRA | C43: BASE CÁLCULO | D43: AJUSTE
B44: Remunerativos | C44: =+'Analisis Ajustes'!D16 -> #REF! | D44: =+'Analisis Ajustes'!F16 -> #REF!
B45: No Remunerativos | C45: =+'Analisis Ajustes'!D17 -> #REF! | D45: =+'Analisis Ajustes'!F17 -> #REF!
B46: Cargas Sociales | D46: =+'Analisis Ajustes'!F18 -> #REF!
B47: Otros | D47: =+'Analisis Ajustes'!F19 -> #REF!
B48: Overhead | D48: =+'Analisis Ajustes'!F35 -> #REF!
B49: Impuestos | D49: =+'Analisis Ajustes'!F42 -> #REF!
B50: Beneficio | D50: =+'Analisis Ajustes'!F43 -> #REF!
B52: Total | D52: =SUM(D44:D50) -> #REF!
B56: AJUSTE DE MANO DE OBRA POR NVO. CCT | D56: AJUSTE
B57: =+'MANO DE OBRA'!BV299 -> 0 | D57: =SUM(D58:D61) -> #REF!
B58: Remunerativos | D58: =+'Analisis Ajustes'!P16 -> #REF!
B59: No Remunerativos | D59: =+'Analisis Ajustes'!P17 -> #REF!
B60: Cargas Sociales | D60: =+'Analisis Ajustes'!P18 -> #REF!
B61: Otros | D61: =+'Analisis Ajustes'!P19 -> #REF!
B62: =+'MANO DE OBRA'!BV306 -> 0 | D62: =SUM(D63:D66) -> #REF!
B63: Remunerativos | D63: =+'Analisis Ajustes'!P21 -> #REF!
B64: No Remunerativos | D64: =+'Analisis Ajustes'!P22 -> #REF!
B65: Cargas Sociales | D65: =+'Analisis Ajustes'!P23 -> #REF!
...

Sheet Información de Cabecera
B3: Apellido y Nombre o Denominación del Contratista:
B5: CUIT:
B7: Contrato N°:
B9: Fecha inicio: | E9: Fecha Información | F9: 42036
B11: Provincias donde se ejecuta: | C11: NEUQUEN
B13: Porcentaje Incidencia | C13: 1 | G13: Total | H13: =+C13+D13+E13+F13 -> 1
B15: Alícuota Ingresos Brutos | C15: 0.035 | G15: Alic Prom | H15: =((C15*C13)+(D15*D13)+(E15*E13)) -> 0.035
B17: Alícuota Sellado | C17: 0.0085 | G17: Alic Prom | H17: =((C17*C13)+(D17*D13)+(E17*E13)) -> 0.0085
B19: Duración (en meses): | C19: 36
B21: Descripción del servicio | C21: “SERVICIO PRUEBAS HIDRAULICAS DE HERMETICIDAD EN POZOS DE LOS ACTIVOS CHIHUIDO DE LA SIERRA NEGRA, VOLCAN AUCA MAHUIDA Y PUESTO HERNANDEZ – UN RLS – REGIONAL NEUQUEN Y RIO NEGRO”

Sheet INMUEBLES EQUIPOS Y RODADOS
B2: A N E X O I I I - DISCRIMINACIÓN DE PRECIOS
B4: Apellido y Nombre o Denominación del Contratista: | C4: =+'Información de Cabecera'!C3:G3 -> 0 | Q4: CONTRATO DE SERVICIO | T4: FS. 1
B5: CUIT: | C5: =+'Información de Cabecera'!C5:D5 -> 0 | Q5: INMUEBLES, EQUIPOS Y RODADOS
B6: Contrato N°: | C6: =+'Información de Cabecera'!C7:D7 -> 0
B7: Fecha inicio: | C7: =+'Información de Cabecera'!C9:D9 -> 0 | F7: Fecha Información: | G7: ='Información de Cabecera'!F9 -> 42036
B8: Zona: | C8: ='Información de Cabecera'!C11&"/"&'Información de Cabecera'!D11&"/"&'Información de Cabecera'!E11&"/"&'Información de Cabecera'!F11 -> #VALUE!
B9: Duración (en meses): | C9: =+'Información de Cabecera'!C19 -> 36
H10: INDICE | AG10: APROPIACION DE PRECIOS - PONDERACION PORCENTUAL DEL COSTO IER POR ITEMS
D12: V A L O R E S D E L C O N T R A T O | T12: EN CASO DE ALQUILER o SUBCONTRATISTA | AG12: Item | AH12: Item | AI12: Item | AJ12: Item | AK12: Item | AL12: Item | AM12: Item | AN12: Item | AO12: Item | AP12: Item | AQ12: Item | AR12: Item | AS12: Item | AT12: Item | AU12: Item | AV12: Item | AW12: Item | AX12: Item | AY12: Item | AZ12: Item | BA12: Item | BB12: Item | BC12: Item | BD12: Item | BE12: Item | BF12: Item | BG12: Item | BH12: Item | BI12: Item | BJ12: Item | BK12: Item | BL12: Item | BM12: Item | BN12: Item | BO12: Item | BP12: Item | BQ12: Item | BR12: Item | BS12: Item | BT12: Item | BU12: Item | BV12: Item | BW12: Item | BX12: Item | BY12: Item | BZ12: Item | CA12: Item | CB12: Item | CC12: Item | CD12: Item | CE12: Item | CF12: Item | CG12: Item | CH12: Item | CI12: Item | CJ12: Item | CK12: Item | CL12: Item | CM12: Item | CN12: Item | CO12: Item | CP12: Item | CQ12: Item | CR12: Item | CS12: Item | CT12: Item | CU12: Item | CV12: Item | CW12: Item | CX12: Item | CY12: Item | CZ12: Item | DA12: Item | DB12: Item | DC12: Item | DD12: Item | DE12: Item | DF12: Item | DG12: Item | DH12: Item
X13: Mes Ajuste | Y13: TOTAL IMPUTADO AL CONTRATO | AA13: Indice aplicable | AB13: Mes Ajuste | AC13: TOTAL IMPUTADO AL CONTRATO | AG13: 1 | AH13: 2 | AI13: 3 | AJ13: 4 | AK13: 5 | AL13: 6 | AM13: 7 | AN13: 8 | AO13: 9 | AP13: 10 | AQ13: 11 | AR13: 12 | AS13: 13 | AT13: 14 | AU13: 15 | AV13: 16 | AW13: 17 | AX13: 18 | AY13: 19 | AZ13: 20 | BA13: 21 | BB13: 22 | BC13: 23 | BD13: 24 | BE13: 25 | BF13: 26 | BG13: 27 | BH13: 28 | BI13: 29 | BJ13: 30 | BK13: 31 | BL13: 32 | BM13: 33 | BN13: 34 | BO13: 35 | BP13: 36 | BQ13: 37 | BR13: 38 | BS13: 39 | BT13: 40 | BU13: 41 | BV13: 42 | BW13: 43 | BX13: 44 | BY13: 45 | BZ13: 46 | CA13: 47 | CB13: 48 | CC13: 49 | CD13: 50 | CE13: 51 | CF13: 52 | CG13: 53 | CH13: 54 | CI13: 55 | CJ13: 56 | CK13: 57 | CL13: 58 | CM13: 59 | CN13: 60 | CO13: 61 | CP13: 62 | CQ13: 63 | CR13: 64 | CS13: 65 | CT13: 66 | CU13: 67 | CV13: 68 | CW13: 69 | CX13: 70 | CY13: 71 | CZ13: 72 | DA13: 73 | DB13: 74 | DC13: 75 | DD13: 76 | DE13: 77 | DF13: 78 | DG13: 79 | DH13: 80
B14: DESCRIPCIÓN | C14: AFECTACIÓN AL CONTRATO | D14: CANTIDAD | E14: Vida Util | F14: RUBRO | G14: MODELO | H14: MATRICULA | I14: Directo / Indirecto | J14: INICIAL | K14: FINAL | L14: AMORTIZA CION TOTAL | M14: AMORTIZACION MENSUAL | N14: PATENTE | O14: SEGUROS | P14: TPTE. de EQUIPOS | Q14: ALQUILER | R14: TOTAL MENSUAL | S14: TOTAL IMPUTADO AL CONTRATO | T14: Nombre | U14: CUIT | W14: INDICES APLICABLES | AA14: F. calculo | AG14: =VLOOKUP(AG13,'APROPIACION A PRECIOS'!$B$14:$C$93,2,0) -> Precio por el “Servicio de PH en ChSN día hábil operativo”, en un todo de acuerdo con las Bases del presente Pedido de Precios.- | AH14: =VLOOKUP(AH13,'APROPIACION A PRECIOS'!$B$14:$C$93,2,0) -> Precio por el “Servicio de PH en ChSN día stand by”, en un todo de acuerdo con las Bases del presente Pedido de Precios.- | AI14: =VLOOKUP(AI13,'APROPIACION A PRECIOS'!$B$14:$C$93,2,0) -> Precio por el “Servicio de PH en PH día hábil operativo”, en un todo de acuerdo con las Bases del presente Pedido de Precios.- | AJ14: =VLOOKUP(AJ13,'APROPIACION A PRECIOS'!$B$14:$C$93,2,0) -> Precio por el “Servicio de PH en PH día stand by”, en un todo de acuerdo con las Bases del presente Pedido de Precios.- | AK14: =VLOOKUP(AK13,'APROPIACION A PRECIOS'!$B$14:$C$93,2,0) -> Precio por el “Servicio de PH en VAM día hábil operativo”, en un todo de acuerdo con las Bases del presente Pedido de Precios.- | AL14: =VLOOKUP(AL13,'APROPIACION A PRECIOS'!$B$14:$C$93,2,0) -> Precio por el “Servicio de PH en VAM día stand by”, en un todo de acuerdo con las Bases del presente Pedido de Precios.- | AM14: =VLOOKUP(AM13,'APROPIACION A PRECIOS'!$B$14:$C$93,2,0) -> 0 | AN14: =VLOOKUP(AN13,'APROPIACION A PRECIOS'!$B$14:$C$93,2,0) -> 0 | ... DH14: =VLOOKUP(DH13,'APROPIACION A PRECIOS'!$B$14:$C$93,2,0) -> 0
C15: (en %) | E15: (En Meses) | G15: (Año) | L15: (G - H) | M15: (I / duración del contrato) | N15: (Mensual) | O15: (Mensual) | P15: (Mensual) | Q15: (Mensual) | R15: (J + K + L + M + N ) x B x C | S15: (O x duración del contrato) | X15: 40603 | AA15: F. de ajuste | AB15: 40603
B16: A | C16: B | D16: C | F16: D | G16: E | I16: F | J16: G | K16: H | L16: I | M16: J | N16: K | O16: L | P16: M | Q16: N | R16: O | S16: P | T16: Q | U16: R | W16: S | X16: 40603 | Y16: Ajustado | AA16: F. indices | AB16: 40603 | AC16: Ajustado | AE16: CONTROL
K17: =+J17-L17 -> 0 | L17: =IF(E17=" ",0,IF(F17=" ",0,(IF(F17="Inmueble Liviano",+J17*0.67/240,0)+IF(F17="Inmueble Mampostería",+J17*0.67/600,0)+IF(F17="Rodados",+J17*0.6/60,0)+IF(F17="Equipo pesado",+J17*0.6/120,0)+IF(F17="Herramientas",J17/E17,0))))*$C$9 -> 0 | M17: =IF($C$9=0,0,L17/$C$9) -> 0 | R17: =(M17+N17+O17+P17+Q17)*C17*D17 -> 0 | S17: =R17*$C$9 -> 0 | X17: =IF(W17=" "," ",IF(W17="Vehículos",VLOOKUP($X$16,'Datos Indices'!$A$38:$Z$50,22,FALSE),IF(W17="Ipim",VLOOKUP($X$16,'Datos Indices'!$A$38:$Z$50,7,FALSE),IF(W17="Dólar",VLOOKUP($X$16,'Datos Indices'!$A$38:$Z$50,4,FALSE),IF(W17="Gasoil",VLOOKUP($X$16,'Datos Indices'!$A$38:$Z$50,10,FALSE),IF(W17="WPU06 Pesificado",VLOOKUP($X$16,'Datos Indices'!$A$38:$Z$50,26,FALSE),0)))))) | Y17: =S17*X17/100 -> 0 | AB17: =IF(AA17=" "," ",IF(AA17="Vehículos",VLOOKUP($AB$16,'Datos Indices'!$A$38:$Z$50,22,FALSE),IF(AA17="Ipim",VLOOKUP($AB$16,'Datos Indices'!$A$38:$Z$50,7,FALSE),IF(AA17="Dólar",VLOOKUP($AB$16,'Datos Indices'!$A$38:$Z$50,4,FALSE),IF(AA17="Gasoil",VLOOKUP($AB$16,'Datos Indices'!$A$38:$Z$50,10,FALSE),IF(AA17="WPU06 Pesificado",VLOOKUP($AB$16,'Datos Indices'!$A$38:$Z$50,26,FALSE),0)))))) | AC17: =Y17*AB17/100 -> 0
K18: =+J18-L18 -> 0 | L18: =IF(E18=" ",0,IF(F18=" ",0,(IF(F18="Inmueble Liviano",+J18*0.67/240,0)+IF(F18="Inmueble Mampostería",+J18*0.67/600,0)+IF(F18="Rodados",+J18*0.6/60,0)+IF(F18="Equipo pesado",+J18*0.6/120,0)+IF(F18="Herramientas",J18/E18,0))))*$C$9 -> 0 | M18: =IF($C$9=0,0,L18/$C$9) -> 0 | R18: =(M18+N18+O18+P18+Q18)*C18*D18 -> 0 | S18: =R18*$C$9 -> 0 | X18: =IF(W18=" "," ",IF(W18="Vehículos",VLOOKUP($X$16,'Datos Indices'!$A$38:$Z$50,22,FALSE),IF(W18="Ipim",VLOOKUP($X$16,'Datos Indices'!$A$38:$Z$50,7,FALSE),IF(W18="Dólar",VLOOKUP($X$16,'Datos Indices'!$A$38:$Z$50,4,FALSE),IF(W18="Gasoil",VLOOKUP($X$16,'Datos Indices'!$A$38:$Z$50,10,FALSE),IF(W18="WPU06 Pesificado",VLOOKUP($X$16,'Datos Indices'!$A$38:$Z$50,26,FALSE),0)))))) | Y18: =S18*X18/100 -> 0 | AB18: =IF(AA18=" "," ",IF(AA18="Vehículos",VLOOKUP($X$16,'Datos Indices'!$A$38:$Z$50,22,FALSE),IF(AA18="Ipim",VLOOKUP($X$16,'Datos Indices'!$A$38:$Z$50,7,FALSE),IF(AA18="Dólar",VLOOKUP($X$16,'Datos Indices'!$A$38:$Z$50,4,FALSE),IF(AA18="Gasoil",VLOOKUP($X$16,'Datos Indices'!$A$38:$Z$50,10,FALSE),IF(AA18="WPU06 Pesificado",VLOOKUP($X$16,'Datos Indices'!$A$38:$Z$50,26,FALSE),0)))))) | AC18: =Y18*AB18/100 -> 0 | AE18: =IF(DL18=0,"","Controlar Aprop.") | DK18: =SUM(AG18:DH18)*S18 -> 0 | DL18: =S18-DK18 -> 0
K19: =+J19-L19 -> 0 | L19: =IF(E19=" ",0,IF(F19=" ",0,(IF(F19="Inmueble Liviano",+J19*0.67/240,0)+IF(F19="Inmueble Mampostería",+J19*0.67/600,0)+IF(F19="Rodados",+J19*0.6/60,0)+IF(F19="Equipo pesado",+J19*0.6/120,0)+IF(F19="Herramientas",J19/E19,0))))*$C$9 -> 0 | M19: =IF($C$9=0,0,L19/$C$9) -> 0 | R19: =(M19+N19+O19+P19+Q19)*C19*D19 -> 0 | S19: =R19*$C$9 -> 0 | X19: =IF(W19=" "," ",IF(W19="Vehículos",VLOOKUP($X$16,'Datos Indices'!$A$38:$Z$50,22,FALSE),IF(W19="Ipim",VLOOKUP($X$16,'Datos Indices'!$A$38:$Z$50,7,FALSE),IF(W19="Dólar",VLOOKUP($X$16,'Datos Indices'!$A$38:$Z$50,4,FALSE),IF(W19="Gasoil",VLOOKUP($X$16,'Datos Indices'!$A$38:$Z$50,10,FALSE),IF(W19="WPU06 Pesificado",VLOOKUP($X$16,'Datos Indices'!$A$38:$Z$50,26,FALSE),0)))))) | Y19: =S19*X19/100 -> 0 | AB19: =IF(AA19=" "," ",IF(AA19="Vehículos",VLOOKUP($X$16,'Datos Indices'!$A$38:$Z$50,22,FALSE),IF(AA19="Ipim",VLOOKUP($X$16,'Datos Indices'!$A$38:$Z$50,7,FALSE),IF(AA19="Dólar",VLOOKUP($X$16,'Datos Indices'!$A$38:$Z$50,4,FALSE),IF(AA19="Gasoil",VLOOKUP($X$16,'Datos Indices'!$A$38:$Z$50,10,FALSE),IF(AA19="WPU06 Pesificado",VLOOKUP($X$16,'Datos Indices'!$A$38:$Z$50,26,FALSE),0)))))) | AC19: =Y19*AB19/100 -> 0 | AE19: =IF(DL19=0,"","Controlar Aprop.") | DK19: =SUM(AG19:DH19)*S19 -> 0 | DL19: =S19-DK19 -> 0
K20: =+J20-L20 -> 0 | L20: =IF(E20=" ",0,IF(F20=" ",0,(IF(F20="Inmueble Liviano",+J20*0.67/240,0)+IF(F20="Inmueble Mampostería",+J20*0.67/600,0)+IF(F20="Rodados",+J20*0.6/60,0)+IF(F20="Equipo pesado",+J20*0.6/120,0)+IF(F20="Herramientas",J20/E20,0))))*$C$9 -> 0 | M20: =IF($C$9=0,0,L20/$C$9) -> 0 | R20: =(M20+N20+O20+P20+Q20)*C20*D20 -> 0 | S20: =R20*$C$9 -> 0 | X20: =IF(W20=" "," ",IF(W20="Vehículos",VLOOKUP($X$16,'Datos Indices'!$A$38:$Z$50,22,FALSE),IF(W20="Ipim",VLOOKUP($X$16,'Datos Indices'!$A$38:$Z$50,7,FALSE),IF(W20="Dólar",VLOOKUP($X$16,'Datos Indices'!$A$38:$Z$50,4,FALSE),IF(W20="Gasoil",VLOOKUP($X$16,'Datos Indices'!$A$38:$Z$50,10,FALSE),IF(W20="WPU06 Pesificado",VLOOKUP($X$16,'Datos Indices'!$A$38:$Z$50,26,FALSE),0)))))) | Y20: =S20*X20/100 -> 0 | AB20: =IF(AA20=" "," ",IF(AA20="Vehículos",VLOOKUP($X$16,'Datos Indices'!$A$38:$Z$50,22,FALSE),IF(AA20="Ipim",VLOOKUP($X$16,'Datos Indices'!$A$38:$Z$50,7,FALSE),IF(AA20="Dólar",VLOOKUP($X$16,'Datos Indices'!$A$38:$Z$50,4,FALSE),IF(AA20="Gasoil",VLOOKUP($X$16,'Datos Indices'!$A$38:$Z$50,10,FALSE),IF(AA20="WPU06 Pesificado",VLOOKUP($X$16,'Datos Indices'!$A$38:$Z$50,26,FALSE),0)))))) | AC20: =Y20*AB20/100 -> 0 | AE20: =IF(DL20=0,"","Controlar Aprop.") | DK20: =SUM(AG20:DH20)*S20 -> 0 | DL20: =S20-DK20 -> 0
K21: =+J21-L21 -> 0 | L21: =IF(E21=" ",0,IF(F21=" ",0,(IF(F21="Inmueble Liviano",+J21*0.67/240,0)+IF(F21="Inmueble Mampostería",+J21*0.67/600,0)+IF(F21="Rodados",+J21*0.6/60,0)+IF(F21="Equipo pesado",+J21*0.6/120,0)+IF(F21="Herramientas",J21/E21,0))))*$C$9 -> 0 | M21: =IF($C$9=0,0,L21/$C$9) -> 0 | R21: =(M21+N21+O21+P21+Q21)*C21*D21 -> 0 | S21: =R21*$C$9 -> 0 | X21: =IF(W21=" "," ",IF(W21="Vehículos",VLOOKUP($X$16,'Datos Indices'!$A$38:$Z$50,22,FALSE),IF(W21="Ipim",VLOOKUP($X$16,'Datos Indices'!$A$38:$Z$50,7,FALSE),IF(W21="Dólar",VLOOKUP($X$16,'Datos Indices'!$A$38:$Z$50,4,FALSE),IF(W21="Gasoil",VLOOKUP($X$16,'Datos Indices'!$A$38:$Z$50,10,FALSE),IF(W21="WPU06 Pesificado",VLOOKUP($X$16,'Datos Indices'!$A$38:$Z$50,26,FALSE),0)))))) | Y21: =S21*X21/100 -> 0 | AB21: =IF(AA21=" "," ",IF(AA21="Vehículos",VLOOKUP($X$16,'Datos Indices'!$A$38:$Z$50,22,FALSE),IF(AA21="Ipim",VLOOKUP($X$16,'Datos Indices'!$A$38:$Z$50,7,FALSE),IF(AA21="Dólar",VLOOKUP($X$16,'Datos Indices'!$A$38:$Z$50,4,FALSE),IF(AA21="Gasoil",VLOOKUP($X$16,'Datos Indices'!$A$38:$Z$50,10,FALSE),IF(AA21="WPU06 Pesificado",VLOOKUP($X$16,'Datos Indices'!$A$38:$Z$50,26,FALSE),0)))))) | AC21: =Y21*AB21/100 -> 0 | AE21: =IF(DL21=0,"","Controlar Aprop.") | DK21: =SUM(AG21:DH21)*S21 -> 0 | DL21: =S21-DK21 -> 0
K22: =+J22-L22 -> 0 | L22: =IF(E22=" ",0,IF(F22=" ",0,(IF(F22="Inmueble Liviano",+J22*0.67/240,0)+IF(F22="Inmueble Mampostería",+J22*0.67/600,0)+IF(F22="Rodados",+J22*0.6/60,0)+IF(F22="Equipo pesado",+J22*0.6/120,0)+IF(F22="Herramientas",J22/E22,0))))*$C$9 -> 0 | M22: =IF($C$9=0,0,L22/$C$9) -> 0 | R22: =(M22+N22+O22+P22+Q22)*C22*D22 -> 0 | S22: =R22*$C$9 -> 0 | X22: =IF(W22=" "," ",IF(W22="Vehículos",VLOOKUP($X$16,'Datos Indices'!$A$38:$Z$50,22,FALSE),IF(W22="Ipim",VLOOKUP($X$16,'Datos Indices'!$A$38:$Z$50,7,FALSE),IF(W22="Dólar",VLOOKUP($X$16,'Datos Indices'!$A$38:$Z$50,4,FALSE),IF(W22="Gasoil",VLOOKUP($X$16,'Datos Indices'!$A$38:$Z$50,10,FALSE),IF(W22="WPU06 Pesificado",VLOOKUP($X$16,'Datos Indices'!$A$38:$Z$50,26,FALSE),0)))))) | Y22: =S22*X22/100 -> 0 | AB22: =IF(AA22=" "," ",IF(AA22="Vehículos",VLOOKUP($X$16,'Datos Indices'!$A$38:$Z$50,22,FALSE),IF(AA22="Ipim",VLOOKUP($X$16,'Datos Indices'!$A$38:$Z$50,7,FALSE),IF(AA22="Dólar",VLOOKUP($X$16,'Datos Indices'!$A$38:$Z$50,4,FALSE),IF(AA22="Gasoil",VLOOKUP($X$16,'Datos Indices'!$A$38:$Z$50,10,FALSE),IF(AA22="WPU06 Pesificado",VLOOKUP($X$16,'Datos Indices'!$A$38:$Z$50,26,FALSE),0)))))) | AC22: =Y22*AB22/100 -> 0 | AE22: =IF(DL22=0,"","Controlar Aprop.") | DK22: =SUM(AG22:DH22)*S22 -> 0 | DL22: =S22-DK22 -> 0
K23: =+J23-L23 -> 0 | L23: =IF(E23=" ",0,IF(F23=" ",0,(IF(F23="Inmueble Liviano",+J23*0.67/240,0)+IF(F23="Inmueble Mampostería",+J23*0.67/600,0)+IF(F23="Rodados",+J23*0.6/60,0)+IF(F23="Equipo pesado",+J23*0.6/120,0)+IF(F23="Herramientas",J23/E23,0))))*$C$9 -> 0 | M23: =IF($C$9=0,0,L23/$C$9) -> 0 | R23: =(M23+N23+O23+P23+Q23)*C23*D23 -> 0 | S23: =R23*$C$9 -> 0 | X23: =IF(W23=" "," ",IF(W23="Vehículos",VLOOKUP($X$16,'Datos Indices'!$A$38:$Z$50,22,FALSE),IF(W23="Ipim",VLOOKUP($X$16,'Datos Indices'!$A$38:$Z$50,7,FALSE),IF(W23="Dólar",VLOOKUP($X$16,'Datos Indices'!$A$38:$Z$50,4,FALSE),IF(W23="Gasoil",VLOOKUP($X$16,'Datos Indices'!$A$38:$Z$50,10,FALSE),IF(W23="WPU06 Pesificado",VLOOKUP($X$16,'Datos Indices'!$A$38:$Z$50,26,FALSE),0)))))) | Y23: =S23*X23/100 -> 0 | AB23: =IF(AA23=" "," ",IF(AA23="Vehículos",VLOOKUP($X$16,'Datos Indices'!$A$38:$Z$50,22,FALSE),IF(AA23="Ipim",VLOOKUP($X$16,'Datos Indices'!$A$38:$Z$50,7,FALSE),IF(AA23="Dólar",VLOOKUP($X$16,'Datos Indices'!$A$38:$Z$50,4,FALSE),IF(AA23="Gasoil",VLOOKUP($X$16,'Datos Indices'!$A$38:$Z$50,10,FALSE),IF(AA23="WPU06 Pesificado",VLOOKUP($X$16,'Datos Indices'!$A$38:$Z$50,26,FALSE),0)))))) | AC23: =Y23*AB23/100 -> 0 | AE23: =IF(DL23=0,"","Controlar Aprop.") | DK23: =SUM(AG23:DH23)*S23 -> 0 | DL23: =S23-DK23 -> 0
K24: =+J24-L24 -> 0 | L24: =IF(E24=" ",0,IF(F24=" ",0,(IF(F24="Inmueble Liviano",+J24*0.67/240,0)+IF(F24="Inmueble Mampostería",+J24*0.67/600,0)+IF(F24="Rodados",+J24*0.6/60,0)+IF(F24="Equipo pesado",+J24*0.6/120,0)+IF(F24="Herramientas",J24/E24,0))))*$C$9 -> 0 | M24: =IF($C$9=0,0,L24/$C$9) -> 0 | R24: =(M24+N24+O24+P24+Q24)*C24*D24 -> 0 | S24: =R24*$C$9 -> 0 | X24: =IF(W24=" "," ",IF(W24="Vehículos",VLOOKUP($X$16,'Datos Indices'!$A$38:$Z$50,22,FALSE),IF(W24="Ipim",VLOOKUP($X$16,'Datos Indices'!$A$38:$Z$50,7,FALSE),IF(W24="Dólar",VLOOKUP($X$16,'Datos Indices'!$A$38:$Z$50,4,FALSE),IF(W24="Gasoil",VLOOKUP($X$16,'Datos Indices'!$A$38:$Z$50,10,FALSE),IF(W24="WPU06 Pesificado",VLOOKUP($X$16,'Datos Indices'!$A$38:$Z$50,26,FALSE),0)))))) | Y24: =S24*X24/100 -> 0 | AB24: =IF(AA24=" "," ",IF(AA24="Vehículos",VLOOKUP($X$16,'Datos Indices'!$A$38:$Z$50,22,FALSE),IF(AA24="Ipim",VLOOKUP($X$16,'Datos Indices'!$A$38:$Z$50,7,FALSE),IF(AA24="Dólar",VLOOKUP($X$16,'Datos Indices'!$A$38:$Z$50,4,FALSE),IF(AA24="Gasoil",VLOOKUP($X$16,'Datos Indices'!$A$38:$Z$50,10,FALSE),IF(AA24="WPU06 Pesificado",VLOOKUP($X$16,'Datos Indices'!$A$38:$Z$50,26,FALSE),0)))))) | AC24: =Y24*AB24/100 -> 0 | AE24: =IF(DL24=0,"","Controlar Aprop.") | DK24: =SUM(AG24:DH24)*S24 -> 0 | DL24: =S24-DK24 -> 0
K25: =+J25-L25 -> 0 | L25: =IF(E25=" ",0,IF(F25=" ",0,(IF(F25="Inmueble Liviano",+J25*0.67/240,0)+IF(F25="Inmueble Mampostería",+J25*0.67/600,0)+IF(F25="Rodados",+J25*0.6/60,0)+IF(F25="Equipo pesado",+J25*0.6/120,0)+IF(F25="Herramientas",J25/E25,0))))*$C$9 -> 0 | M25: =IF($C$9=0,0,L25/$C$9) -> 0 | R25: =(M25+N25+O25+P25+Q25)*C25*D25 -> 0 | S25: =R25*$C$9 -> 0 | X25: =IF(W25=" "," ",IF(W25="Vehículos",VLOOKUP($X$16,'Datos Indices'!$A$38:$Z$50,22,FALSE),IF(W25="Ipim",VLOOKUP($X$16,'Datos Indices'!$A$38:$Z$50,7,FALSE),IF(W25="Dólar",VLOOKUP($X$16,'Datos Indices'!$A$38:$Z$50,4,FALSE),IF(W25="Gasoil",VLOOKUP($X$16,'Datos Indices'!$A$38:$Z$50,10,FALSE),IF(W25="WPU06 Pesificado",VLOOKUP($X$16,'Datos Indices'!$A$38:$Z$50,26,FALSE),0)))))) | Y25: =S25*X25/100 -> 0 | AB25: =IF(AA25=" "," ",IF(AA25="Vehículos",VLOOKUP($X$16,'Datos Indices'!$A$38:$Z$50,22,FALSE),IF(AA25="Ipim",VLOOKUP($X$16,'Datos Indices'!$A$38:$Z$50,7,FALSE),IF(AA25="Dólar",VLOOKUP($X$16,'Datos Indices'!$A$38:$Z$50,4,FALSE),IF(AA25="Gasoil",VLOOKUP($X$16,'Datos Indices'!$A$38:$Z$50,10,FALSE),IF(AA25="WPU06 Pesificado",VLOOKUP($X$16,'Datos Indices'!$A$38:$Z$50,26,FALSE),0)))))) | AC25: =Y25*AB25/100 -> 0 | AE25: =IF(DL25=0,"","Controlar Aprop.") | DK25: =SUM(AG25:DH25)*S25 -> 0 | DL25: =S25-DK25 -> 0
K26: =+J26-L26 -> 0 | L26: =IF(E26=" ",0,IF(F26=" ",0,(IF(F26="Inmueble Liviano",+J26*0.67/240,0)+IF(F26="Inmueble Mampostería",+J26*0.67/600,0)+IF(F26="Rodados",+J26*0.6/60,0)+IF(F26="Equipo pesado",+J26*0.6/120,0)+IF(F26="Herramientas",J26/E26,0))))*$C$9 -> 0 | M26: =IF($C$9=0,0,L26/$C$9) -> 0 | R26: =(M26+N26+O26+P26+Q26)*C26*D26 -> 0 | S26: =R26*$C$9 -> 0 | X26: =IF(W26=" "," ",IF(W26="Vehículos",VLOOKUP($X$16,'Datos Indices'!$A$38:$Z$50,22,FALSE),IF(W26="Ipim",VLOOKUP($X$16,'Datos Indices'!$A$38:$Z$50,7,FALSE),IF(W26="Dólar",VLOOKUP($X$16,'Datos Indices'!$A$38:$Z$50,4,FALSE),IF(W26="Gasoil",VLOOKUP($X$16,'Datos Indices'!$A$38:$Z$50,10,FALSE),IF(W26="WPU06 Pesificado",VLOOKUP($X$16,'Datos Indices'!$A$38:$Z$50,26,FALSE),0)))))) | Y26: =S26*X26/100 -> 0 | AB26: =IF(AA26=" "," ",IF(AA26="Vehículos",VLOOKUP($X$16,'Datos Indices'!$A$38:$Z$50,22,FALSE),IF(AA26="Ipim",VLOOKUP($X$16,'Datos Indices'!$A$38:$Z$50,7,FALSE),IF(AA26="Dólar",VLOOKUP($X$16,'Datos Indices'!$A$38:$Z$50,4,FALSE),IF(AA26="Gasoil",VLOOKUP($X$16,'Datos Indices'!$A$38:$Z$50,10,FALSE),IF(AA26="WPU06 Pesificado",VLOOKUP($X$16,'Datos Indices'!$A$38:$Z$50,26,FALSE),0)))))) | AC26: =Y26*AB26/100 -> 0 | AE26: =IF(DL26=0,"","Controlar Aprop.") | DK26: =SUM(AG26:DH26)*S26 -> 0 | DL26: =S26-DK26 -> 0
K27: =+J27-L27 -> 0 | L27: =IF(E27=" ",0,IF(F27=" ",0,(IF(F27="Inmueble Liviano",+J27*0.67/240,0)+IF(F27="Inmueble Mampostería",+J27*0.67/600,0)+IF(F27="Rodados",+J27*0.6/60,0)+IF(F27="Equipo pesado",+J27*0.6/120,0)+IF(F27="Herramientas",J27/E27,0))))*$C$9 -> 0 | M27: =IF($C$9=0,0,L27/$C$9) -> 0 | R27: =(M27+N27+O27+P27+Q27)*C27*D27 -> 0 | S27: =R27*$C$9 -> 0 | X27: =IF(W27=" "," ",IF(W27="Vehículos",VLOOKUP($X$16,'Datos Indices'!$A$38:$Z$50,22,FALSE),IF(W27="Ipim",VLOOKUP($X$16,'Datos Indices'!$A$38:$Z$50,7,FALSE),IF(W27="Dólar",VLOOKUP($X$16,'Datos Indices'!$A$38:$Z$50,4,FALSE),IF(W27="Gasoil",VLOOKUP($X$16,'Datos Indices'!$A$38:$Z$50,10,FALSE),IF(W27="WPU06 Pesificado",VLOOKUP($X$16,'Datos Indices'!$A$38:$Z$50,26,FALSE),0)))))) | Y27: =S27*X27/100 -> 0 | AB27: =IF(AA27=" "," ",IF(AA27="Vehículos",VLOOKUP($X$16,'Datos Indices'!$A$38:$Z$50,22,FALSE),IF(AA27="Ipim",VLOOKUP($X$16,'Datos Indices'!$A$38:$Z$50,7,FALSE),IF(AA27="Dólar",VLOOKUP($X$16,'Datos Indices'!$A$38:$Z$50,4,FALSE),IF(AA27="Gasoil",VLOOKUP($X$16,'Datos Indices'!$A$38:$Z$50,10,FALSE),IF(AA27="WPU06 Pesificado",VLOOKUP($X$16,'Datos Indices'!$A$38:$Z$50,26,FALSE),0)))))) | AC27: =Y27*AB27/100 -> 0 | AE27: =IF(DL27=0,"","Controlar Aprop.") | DK27: =SUM(AG27:DH27)*S27 -> 0 | DL27: =S27-DK27 -> 0
K28: =+J28-L28 -> 0 | L28: =IF(E28=" ",0,IF(F28=" ",0,(IF(F28="Inmueble Liviano",+J28*0.67/240,0)+IF(F28="Inmueble Mampostería",+J28*0.67/600,0)+IF(F28="Rodados",+J28*0.6/60,0)+IF(F28="Equipo pesado",+J28*0.6/120,0)+IF(F28="Herramientas",J28/E28,0))))*$C$9 -> 0 | M28: =IF($C$9=0,0,L28/$C$9) -> 0 | R28: =(M28+N28+O28+P28+Q28)*C28*D28 -> 0 | S28: =R28*$C$9 -> 0 | X28: =IF(W28=" "," ",IF(W28="Vehículos",VLOOKUP($X$16,'Datos Indices'!$A$38:$Z$50,22,FALSE),IF(W28="Ipim",VLOOKUP($X$16,'Datos Indices'!$A$38:$Z$50,7,FALSE),IF(W28="Dólar",VLOOKUP($X$16,'Datos Indices'!$A$38:$Z$50,4,FALSE),IF(W28="Gasoil",VLOOKUP($X$16,'Datos Indices'!$A$38:$Z$50,10,FALSE),IF(W28="WPU06 Pesificado",VLOOKUP($X$16,'Datos Indices'!$A$38:$Z$50,26,FALSE),0)))))) | Y28: =S28*X28/100 -> 0 | AB28: =IF(AA28=" "," ",IF(AA28="Vehículos",VLOOKUP($X$16,'Datos Indices'!$A$38:$Z$50,22,FALSE),IF(AA28="Ipim",VLOOKUP($X$16,'Datos Indices'!$A$38:$Z$50,7,FALSE),IF(AA28="Dólar",VLOOKUP($X$16,'Datos Indices'!$A$38:$Z$50,4,FALSE),IF(AA28="Gasoil",VLOOKUP($X$16,'Datos Indices'!$A$38:$Z$50,10,FALSE),IF(AA28="WPU06 Pesificado",VLOOKUP($X$16,'Datos Indices'!$A$38:$Z$50,26,FALSE),0)))))) | AC28: =Y28*AB28/100 -> 0 | AE28: =IF(DL28=0,"","Controlar Aprop.") | DK28: =SUM(AG28:DH28)*S28 -> 0 | DL28: =S28-DK28 -> 0
K29: =+J29-L29 -> 0 | L29: =IF(E29=" ",0,IF(F29=" ",0,(IF(F29="Inmueble Liviano",+J29*0.67/240,0)+IF(F29="Inmueble Mampostería",+J29*0.67/600,0)+IF(F29="Rodados",+J29*0.6/60,0)+IF(F29="Equipo pesado",+J29*0.6/120,0)+IF(F29="Herramientas",J29/E29,0))))*$C$9 -> 0 | M29: =IF($C$9=0,0,L29/$C$9) -> 0 | R29: =(M29+N29+O29+P29+Q29)*C29*D29 -> 0 | S29: =R29*$C$9 -> 0 | X29: =IF(W29=" "," ",IF(W29="Vehículos",VLOOKUP($X$16,'Datos Indices'!$A$38:$Z$50,22,FALSE),IF(W29="Ipim",VLOOKUP($X$16,'Datos Indices'!$A$38:$Z$50,7,FALSE),IF(W29="Dólar",VLOOKUP($X$16,'Datos Indices'!$A$38:$Z$50,4,FALSE),IF(W29="Gasoil",VLOOKUP($X$16,'Datos Indices'!$A$38:$Z$50,10,FALSE),IF(W29="WPU06 Pesificado",VLOOKUP($X$16,'Datos Indices'!$A$38:$Z$50,26,FALSE),0)))))) | Y29: =S29*X29/100 -> 0 | AB29: =IF(AA29=" "," ",IF(AA29="Vehículos",VLOOKUP($X$16,'Datos Indices'!$A$38:$Z$50,22,FALSE),IF(AA29="Ipim",VLOOKUP($X$16,'Datos Indices'!$A$38:$Z$50,7,FALSE),IF(AA29="Dólar",VLOOKUP($X$16,'Datos Indices'!$A$38:$Z$50,4,FALSE),IF(AA29="Gasoil",VLOOKUP($X$16,'Datos Indices'!$A$38:$Z$50,10,FALSE),IF(AA29="WPU06 Pesificado",VLOOKUP($X$16,'Datos Indices'!$A$38:$Z$50,26,FALSE),0)))))) | AC29: =Y29*AB29/100 -> 0 | AE29: =IF(DL29=0,"","Controlar Aprop.") | DK29: =SUM(AG29:DH29)*S29 -> 0 | DL29: =S29-DK29 -> 0
... K250: =+J250-L250 -> 0 | L250: =IF(E250=" ",0,IF(F250=" ",0,(IF(F250="Inmueble Liviano",+J250*0.67/240,0)+IF(F250="Inmueble Mampostería",+J250*0.67/600,0)+IF(F250="Rodados",+J250*0.6/60,0)+IF(F250="Equipo pesado",+J250*0.6/120,0)+IF(F250="Herramientas",J250/E250,0))))*$C$9 -> 0 | M250: =IF($C$9=0,0,L250/$C$9) -> 0 | R250: =(M250+N250+O250+P250+Q250)*C250*D250 -> 0 | S250: =R250*$C$9 -> 0 | X250: =IF(W250=" "," ",IF(W250="Vehículos",VLOOKUP($X$16,'Datos Indices'!$A$38:$Z$50,22,FALSE),IF(W250="Ipim",VLOOKUP($X$16,'Datos Indices'!$A$38:$Z$50,7,FALSE),IF(W250="Dólar",VLOOKUP($X$16,'Datos Indices'!$A$38:$Z$50,4,FALSE),IF(W250="Gasoil",VLOOKUP($X$16,'Datos Indices'!$A$38:$Z$50,10,FALSE),IF(W250="WPU06 Pesificado",VLOOKUP($X$16,'Datos Indices'!$A$38:$Z$50,26,FALSE),0)))))) | Y250: =S250*X250/100 -> 0 | AB250: =IF(AA250=" "," ",IF(AA250="Vehículos",VLOOKUP($X$16,'Datos Indices'!$A$38:$Z$50,22,FALSE),IF(AA250="Ipim",VLOOKUP($X$16,'Datos Indices'!$A$38:$Z$50,7,FALSE),IF(AA250="Dólar",VLOOKUP($X$16,'Datos Indices'!$A$38:$Z$50,4,FALSE),IF(AA250="Gasoil",VLOOKUP($X$16,'Datos Indices'!$A$38:$Z$50,10,FALSE),IF(AA250="WPU06 Pesificado",VLOOKUP($X$16,'Datos Indices'!$A$38:$Z$50,26,FALSE),0)))))) | AC250: =Y250*AB250/100 -> 0 | AE250: =IF(DL250=0,"","Controlar Aprop.") | DK250: =SUM(AG250:DH250)*S250 -> 0 | DL250: =S250-DK250 -> 0
R251: =SUM(R17:R250) -> 0 | S251: =SUM(S17:S250) -> 0 | Y251: =SUM(Y17:Y250) -> 0 | AC251: =SUM(AC17:AC250) -> 0
M252: TOTAL ASIGNADO AL CONTRATO: | AG252: =SUMPRODUCT($S18:$S250,AG18:AG250) -> 0 | AH252: =SUMPRODUCT($S18:$S250,AH18:AH250) -> 0 | AI252: =SUMPRODUCT($S18:$S250,AI18:AI250) -> 0 | AJ252: =SUMPRODUCT($S18:$S250,AJ18:AJ250) -> 0 | AK252: =SUMPRODUCT($S18:$S250,AK18:AK250) -> 0 | AL252: =SUMPRODUCT($S18:$S250,AL18:AL250) -> 0 | AM252: =SUMPRODUCT($S18:$S250,AM18:AM250) -> 0 | AN252: =SUMPRODUCT($S18:$S250,AN18:AN250) -> 0 | ... DH252: =SUMPRODUCT($S18:$S250,DH18:DH250) -> 0
A255: TODOS LOS VALORES ESTAN EXPRESADOS EN PESOS SIN I.V.A.
B266: FIRMA RESPONSABLE | D266: ACLARACIÓN FIRMA

Sheet MANO DE OBRA
C2: A N E X O I I I - DISCRIMINACIÓN DE PRECIOS
C4: Apellido y Nombre o Denominación del Contratista: | D4: =+'INMUEBLES EQUIPOS Y RODADOS'!C4 -> 0 | L4: CONTRATO DE SERVICIO
C5: CUIT: | D5: =+'INMUEBLES EQUIPOS Y RODADOS'!C5 -> 0 | L5: MANO DE OBRA | O5: FS. 2
C6: Contrato N°: | D6: =+'INMUEBLES EQUIPOS Y RODADOS'!C6 -> 0
C7: Fecha inicio: | D7: =+'INMUEBLES EQUIPOS Y RODADOS'!C7 -> 0 | F7: Fecha Información: | G7: ='Información de Cabecera'!F9 -> 42036
C8: Zona: | D8: =+'INMUEBLES EQUIPOS Y RODADOS'!C8 -> #VALUE! | CF8: APROPIACION DE PRECIOS - PONDERACION PORCENTUAL DEL COSTO MO POR ITEMS
C9: Duración (en meses): | D9: ='INMUEBLES EQUIPOS Y RODADOS'!C9 -> 36
CF10: Item | CG10: Item | CH10: Item | CI10: Item | CJ10: Item | CK10: Item | CL10: Item | CM10: Item | CN10: Item | CO10: Item | CP10: Item | CQ10: Item | CR10: Item | CS10: Item | CT10: Item | CU10: Item | CV10: Item | CW10: Item | CX10: Item | CY10: Item | CZ10: Item | DA10: Item | DB10: Item | DC10: Item | DD10: Item | DE10: Item | DF10: Item | DG10: Item | DH10: Item | DI10: Item | DJ10: Item | DK10: Item | DL10: Item | DM10: Item | DN10: Item | DO10: Item | DP10: Item | DQ10: Item | DR10: Item | DS10: Item | DT10: Item | DU10: Item | DV10: Item | DW10: Item | DX10: Item | DY10: Item | DZ10: Item | EA10: Item | EB10: Item | EC10: Item | ED10: Item | EE10: Item | EF10: Item | EG10: Item | EH10: Item | EI10: Item | EJ10: Item | EK10: Item | EL10: Item | EM10: Item | EN10: Item | EO10: Item | EP10: Item | EQ10: Item | ER10: Item | ES10: Item | ET10: Item | EU10: Item | EV10: Item | EW10: Item | EX10: Item | EY10: Item | EZ10: Item | FA10: Item | FB10: Item | FC10: Item | FD10: Item | FE10: Item | FF10: Item | FG10: Item
G11: INDICE | CF11: 1 | CG11: 2 | CH11: 3 | CI11: 4 | CJ11: 5 | CK11: 6 | CL11: 7 | CM11: 8 | CN11: 9 | CO11: 10 | CP11: 11 | CQ11: 12 | CR11: 13 | CS11: 14 | CT11: 15 | CU11: 16 | CV11: 17 | CW11: 18 | CX11: 19 | CY11: 20 | CZ11: 21 | DA11: 22 | DB11: 23 | DC11: 24 | DD11: 25 | DE11: 26 | DF11: 27 | DG11: 28 | DH11: 29 | DI11: 30 | DJ11: 31 | DK11: 32 | DL11: 33 | DM11: 34 | DN11: 35 | DO11: 36 | DP11: 37 | DQ11: 38 | DR11: 39 | DS11: 40 | DT11: 41 | DU11: 42 | DV11: 43 | DW11: 44 | DX11: 45 | DY11: 46 | DZ11: 47 | EA11: 48 | EB11: 49 | EC11: 50 | ED11: 51 | EE11: 52 | EF11: 53 | EG11: 54 | EH11: 55 | EI11: 56 | EJ11: 57 | EK11: 58 | EL11: 59 | EM11: 60 | EN11: 61 | EO11: 62 | EP11: 63 | EQ11: 64 | ER11: 65 | ES11: 66 | ET11: 67 | EU11: 68 | EV11: 69 | EW11: 70 | EX11: 71 | EY11: 72 | EZ11: 73 | FA11: 74 | FB11: 75 | FC11: 76 | FD11: 77 | FE11: 78 | FF11: 79 | FG11: 80
R12: % | S12: % | AG12: REMUNERATIVOS (Valores mensuales) | BD12: NO REMUNERATIVOS (Valores mensuales) | BK12: S.A.C. Proporcional Mensual 8,33% | BL12: Vacaciones Proporcional Mensual 1,40% | BM12: CARGAS SOCIALES (Variable s/Zona) | BN12: SEGURO DE VIDA / ACCIDENTES Proporcioanl Mensual | BO12: Vestimenta Proporcional Mensual | BP12: Capacitación Habilitación Permisos Exámenes Médicos Prop.Mensual | BQ12: TOTAL MENSUAL | BR12: TOTALES IMPUTADOS AL CONTRATO (J x Meses del Contrato) | CF12: =VLOOKUP(CF11,'APROPIACION A PRECIOS'!$B$14:$C$93,2,0) -> Precio por el “Servicio de PH en ChSN día hábil operativo”, en un todo de acuerdo con las Bases del presente Pedido de Precios.- | CG12: =VLOOKUP(CG11,'APROPIACION A PRECIOS'!$B$14:$C$93,2,0) -> Precio por el “Servicio de PH en ChSN día stand by”, en un todo de acuerdo con las Bases del presente Pedido de Precios.- | CH12: =VLOOKUP(CH11,'APROPIACION A PRECIOS'!$B$14:$C$93,2,0) -> Precio por el “Servicio de PH en PH día hábil operativo”, en un todo de acuerdo con las Bases del presente Pedido de Precios.- | CI12: =VLOOKUP(CI11,'APROPIACION A PRECIOS'!$B$14:$C$93,2,0) -> Precio por el “Servicio de PH en PH día stand by”, en un todo de acuerdo con las Bases del presente Pedido de Precios.- | CJ12: =VLOOKUP(CJ11,'APROPIACION A PRECIOS'!$B$14:$C$93,2,0) -> Precio por el “Servicio de PH en VAM día hábil operativo”, en un todo de acuerdo con las Bases del presente Pedido de Precios.- | CK12: =VLOOKUP(CK11,'APROPIACION A PRECIOS'!$B$14:$C$93,2,0) -> Precio por el “Servicio de PH en VAM día stand by”, en un todo de acuerdo con las Bases del presente Pedido de Precios.- | CL12: =VLOOKUP(CL11,'APROPIACION A PRECIOS'!$B$14:$C$93,2,0) -> 0 | CM12: =VLOOKUP(CM11,'APROPIACION A PRECIOS'!$B$14:$C$93,2,0) -> 0 | ... FG12: =VLOOKUP(FG11,'APROPIACION A PRECIOS'!$B$14:$C$93,2,0) -> 0
A13: Nº | B13: UUNN | C13: Apellido y Nombre | D13: CUIL / CUIT | E13: Función | F13: Gremio | G13: Numero de CCT | H13: Destalle de CCT | I13: Categoría | J13: Turno | K13: Actividad | L13: Provincia | M13: Area operativa | N13: Fecha ingreso a la empresa | O13: Fecha afectación al contrato | P13: Situación Actual | Q13: Directo / Indirecto | R13: Afectación a YPF | S13: Afectación al Contrato | T13: Sueldo Básico | U13: Presentismo | V13: Adicional Zona | W13: Desarraigo | X13: Diferencial Turno | Y13: Adicional Especial / Empresa | Z13: Cant Años Antigüedad | AA13: Importe Antigüedad | AB13: Cant Horas Extras al 50% | AC13: Importe Horas Extras al 50% | AD13: Cant Horas Extras al 100% | AE13: Importe Horas Extras al 100% | AF13: Cant Horas de Viaje Promedio | AG13: Importe Horas de Viaje Promedio | AH13: Cant días de Guardias | AI13: Importe Guardias | AJ13: Cant Días Guardias Pasivas | AK13: Importe Guardias Pasivas | AL13: Adicional Disponibilidad | AM13: Adicional Traslado | AN13: Adicional Torre / Torre Serv. Especiales | AO13: Adicional Yacimiento (Producción / Mantenimiento/disponibilidad) | AP13: Adicional Altura | AQ13: Adicional Cargas Peligrosas | AR13: Adicional Cuencas Petroleras | AS13: Bono de Paz | AT13: Presentismo especial (valor anual/12) | AU13: Otros Conceptos (Detalle) | AV13: Otros Coneptos (Importe) | AW13: Cant Viandas 8hs Art. 34 bis | AX13: Importe Viandas 8hs Art. 34 bis | AY13: Cant Viandas Hs Extras Art. 34 (10 hs) | AZ13: Importe Viandas Hs Extras Art. 34 (10 hs) | BA13: Cant Alimentación diaria Art. 60 | BB13: Importe Alimentación diaria Art. 60 | BD13: Viático | BE13: Viático Especial | BF13: Pernoctancia | BG13: Devolución de Ganancia Promedio | BH13: Otros Conceptos (Detalle) | BI13: Otros Conceptos (Importe) | BJ13: Adicional especial | BN13: SEGUROS | BQ13: (Sector C + Sector D + E + F + G + H + I+ J) x A x B | BS13: Propio (Si / No) | BT13: Nombre Subcontratista | BU13: CUIT Subcontratista | BV13: Comentarios | BW13: Remunerativos | BX13: No Remunerativos | BY13: SAC Vacaciones Cargas Sociales | BZ13: Otros | CA13: Total Mensual | CB13: Total Contrato
R14: A | S14: B | AG14: SECTOR C | BD14: SECTOR D | BK14: E | BL14: F | BM14: G | BN14: H | BO14: I | BP14: J | BQ14: K | BR14: L | CD14: CONTROL
BK15: =(T15+U15+V15+W15+Y15+AA15+AC15+AE15+AN15+AO15+X15+AP15+AG15+AI15+AK15+AL15+AM15+AQ15+AR15+AV15+AS15+AT15)*0.08333 -> 0 | BL15: =(T15+U15+V15+W15+Y15+AA15+AC15+AE15+AN15+AO15+X15+AP15+AG15+AI15+AK15+AL15+AM15+AQ15+AR15+AV15+AS15+AT15)*0.014 -> 0 | BM15: =((T15+U15+V15+W15+Y15+AA15+AC15+AE15+AN15+AO15+X15+AP15+AG15+AI15+AK15+AL15+AM15+AQ15+AR15+AV15+AS15+AT15)*0.4062) -> 0 | BQ15: =(T15+U15+V15+W15+Y15+AA15+AC15+AE15+AN15+AO15+X15+AP15+AG15+AI15+AK15+AL15+AM15+AQ15+AR15+AV15+AS15+AT15+AX15+AZ15+BB15+BC15+BD15+BE15+BF15+BG15+BI15+BJ15+BK15+BL15+BM15+BN15+BO15+BP15)*R15*S15 -> 0 | BR15: =BQ15*$D$9 -> 0 | BW15: =(+T15+U15+V15+W15+Y15+AA15+AC15+AE15+AN15+AO15+X15+AP15+AG15+AI15+AK15+AL15+AM15+AQ15+AR15+AV15+AS15+AT15)*R15*S15 -> 0 | BX15: =(AX15+AZ15+BB15+BC15+BD15+BE15+BF15+BG15+BI15+BJ15)*R15*S15 -> 0 | BY15: =SUM(BK15:BM15)*R15*S15 -> 0 | BZ15: =SUM(BN15:BP15)*R15*S15 -> 0 | CA15: =SUM(BW15:BZ15) -> 0 | CB15: =+CA15*$D$9 -> 0
BK16: =(T16+U16+V16+W16+Y16+AA16+AC16+AE16+AN16+AO16+X16+AP16+AG16+AI16+AK16+AL16+AM16+AQ16+AR16+AV16+AS16+AT16)*0.08333 -> 0 | BL16: =(T16+U16+V16+W16+Y16+AA16+AC16+AE16+AN16+AO16+X16+AP16+AG16+AI16+AK16+AL16+AM16+AQ16+AR16+AV16+AS16+AT16)*0.014 -> 0 | BM16: =((T16+U16+V16+W16+Y16+AA16+AC16+AE16+AN16+AO16+X16+AP16+AG16+AI16+AK16+AL16+AM16+AQ16+AR16+AV16+AS16+AT16)*0.4062) -> 0 | BQ16: =(T16+U16+V16+W16+Y16+AA16+AC16+AE16+AN16+AO16+X16+AP16+AG16+AI16+AK16+AL16+AM16+AQ16+AR16+AV16+AS16+AT16+AX16+AZ16+BB16+BC16+BD16+BE16+BF16+BG16+BI16+BJ16+BK16+BL16+BM16+BN16+BO16+BP16)*R16*S16 -> 0 | BR16: =BQ16*$D$9 -> 0 | BW16: =(+T16+U16+V16+W16+Y16+AA16+AC16+AE16+AN16+AO16+X16+AP16+AG16+AI16+AK16+AL16+AM16+AQ16+AR16+AV16+AS16+AT16)*R16*S16 -> 0 | BX16: =(AX16+AZ16+BB16+BC16+BD16+BE16+BF16+BG16+BI16+BJ16)*R16*S16 -> 0 | BY16: =SUM(BK16:BM16)*R16*S16 -> 0 | BZ16: =SUM(BN16:BP16)*R16*S16 -> 0 | CA16: =SUM(BW16:BZ16) -> 0 | CB16: =+CA16*$D$9 -> 0 | CD16: =IF(FK16=0,"","Controlar Aprop.") | FJ16: =SUM(CF16:FG16)*CB16 -> 0 | FK16: =CB16-FJ16 -> 0
BK17: =(T17+U17+V17+W17+Y17+AA17+AC17+AE17+AN17+AO17+X17+AP17+AG17+AI17+AK17+AL17+AM17+AQ17+AR17+AV17+AS17+AT17)*0.08333 -> 0 | BL17: =(T17+U17+V17+W17+Y17+AA17+AC17+AE17+AN17+AO17+X17+AP17+AG17+AI17+AK17+AL17+AM17+AQ17+AR17+AV17+AS17+AT17)*0.014 -> 0 | BM17: =((T17+U17+V17+W17+Y17+AA17+AC17+AE17+AN17+AO17+X17+AP17+AG17+AI17+AK17+AL17+AM17+AQ17+AR17+AV17+AS17+AT17)*0.4062) -> 0 | BQ17: =(T17+U17+V17+W17+Y17+AA17+AC17+AE17+AN17+AO17+X17+AP17+AG17+AI17+AK17+AL17+AM17+AQ17+AR17+AV17+AS17+AT17+AX17+AZ17+BB17+BC17+BD17+BE17+BF17+BG17+BI17+BJ17+BK17+BL17+BM17+BN17+BO17+BP17)*R17*S17 -> 0 | BR17: =BQ17*$D$9 -> 0 | BW17: =(+T17+U17+V17+W17+Y17+AA17+AC17+AE17+AN17+AO17+X17+AP17+AG17+AI17+AK17+AL17+AM17+AQ17+AR17+AV17+AS17+AT17)*R17*S17 -> 0 | BX17: =(AX17+AZ17+BB17+BC17+BD17+BE17+BF17+BG17+BI17+BJ17)*R17*S17 -> 0 | BY17: =SUM(BK17:BM17)*R17*S17 -> 0 | BZ17: =SUM(BN17:BP17)*R17*S17 -> 0 | CA17: =SUM(BW17:BZ17) -> 0 | CB17: =+CA17*$D$9 -> 0 | CD17: =IF(FK17=0,"","Controlar Aprop.") | FJ17: =SUM(CF17:FG17)*CB17 -> 0 | FK17: =CB17-FJ17 -> 0
BK18: =(T18+U18+V18+W18+Y18+AA18+AC18+AE18+AN18+AO18+X18+AP18+AG18+AI18+AK18+AL18+AM18+AQ18+AR18+AV18+AS18+AT18)*0.08333 -> 0 | BL18: =(T18+U18+V18+W18+Y18+AA18+AC18+AE18+AN18+AO18+X18+AP18+AG18+AI18+AK18+AL18+AM18+AQ18+AR18+AV18+AS18+AT18)*0.014 -> 0 | BM18: =((T18+U18+V18+W18+Y18+AA18+AC18+AE18+AN18+AO18+X18+AP18+AG18+AI18+AK18+AL18+AM18+AQ18+AR18+AV18+AS18+AT18)*0.4062) -> 0 | BQ18: =(T18+U18+V18+W18+Y18+AA18+AC18+AE18+AN18+AO18+X18+AP18+AG18+AI18+AK18+AL18+AM18+AQ18+AR18+AV18+AS18+AT18+AX18+AZ18+BB18+BC18+BD18+BE18+BF18+BG18+BI18+BJ18+BK18+BL18+BM18+BN18+BO18+BP18)*R18*S18 -> 0 | BR18: =BQ18*$D$9 -> 0 | BW18: =(+T18+U18+V18+W18+Y18+AA18+AC18+AE18+AN18+AO18+X18+AP18+AG18+AI18+AK18+AL18+AM18+AQ18+AR18+AV18+AS18+AT18)*R18*S18 -> 0 | BX18: =(AX18+AZ18+BB18+BC18+BD18+BE18+BF18+BG18+BI18+BJ18)*R18*S18 -> 0 | BY18: =SUM(BK18:BM18)*R18*S18 -> 0 | BZ18: =SUM(BN18:BP18)*R18*S18 -> 0 | CA18: =SUM(BW18:BZ18) -> 0 | CB18: =+CA18*$D$9 -> 0 | CD18: =IF(FK18=0,"","Controlar Aprop.") | FJ18: =SUM(CF18:FG18)*CB18 -> 0 | FK18: =CB18-FJ18 -> 0
BK19: =(T19+U19+V19+W19+Y19+AA19+AC19+AE19+AN19+AO19+X19+AP19+AG19+AI19+AK19+AL19+AM19+AQ19+AR19+AV19+AS19+AT19)*0.08333 -> 0 | BL19: =(T19+U19+V19+W19+Y19+AA19+AC19+AE19+AN19+AO19+X19+AP19+AG19+AI19+AK19+AL19+AM19+AQ19+AR19+AV19+AS19+AT19)*0.014 -> 0 | BM19: =((T19+U19+V19+W19+Y19+AA19+AC19+AE19+AN19+AO19+X19+AP19+AG19+AI19+AK19+AL19+AM19+AQ19+AR19+AV19+AS19+AT19)*0.4062) -> 0 | BQ19: =(T19+U19+V19+W19+Y19+AA19+AC19+AE19+AN19+AO19+X19+AP19+AG19+AI19+AK19+AL19+AM19+AQ19+AR19+AV19+AS19+AT19+AX19+AZ19+BB19+BC19+BD19+BE19+BF19+BG19+BI19+BJ19+BK19+BL19+BM19+BN19+BO19+BP19)*R19*S19 -> 0 | BR19: =BQ19*$D$9 -> 0 | BW19: =(+T19+U19+V19+W19+Y19+AA19+AC19+AE19+AN19+AO19+X19+AP19+AG19+AI19+AK19+AL19+AM19+AQ19+AR19+AV19+AS19+AT19)*R19*S19 -> 0 | BX19: =(AX19+AZ19+BB19+BC19+BD19+BE19+BF19+BG19+BI19+BJ19)*R19*S19 -> 0 | BY19: =SUM(BK19:BM19)*R19*S19 -> 0 | BZ19: =SUM(BN19:BP19)*R19*S19 -> 0 | CA19: =SUM(BW19:BZ19) -> 0 | CB19: =+CA19*$D$9 -> 0 | CD19: =IF(FK19=0,"","Controlar Aprop.") | FJ19: =SUM(CF19:FG19)*CB19 -> 0 | FK19: =CB19-FJ19 -> 0
BK20: =(T20+U20+V20+W20+Y20+AA20+AC20+AE20+AN20+AO20+X20+AP20+AG20+AI20+AK20+AL20+AM20+AQ20+AR20+AV20+AS20+AT20)*0.08333 -> 0 | BL20: =(T20+U20+V20+W20+Y20+AA20+AC20+AE20+AN20+AO20+X20+AP20+AG20+AI20+AK20+AL20+AM20+AQ20+AR20+AV20+AS20+AT20)*0.014 -> 0 | BM20: =((T20+U20+V20+W20+Y20+AA20+AC20+AE20+AN20+AO20+X20+AP20+AG20+AI20+AK20+AL20+AM20+AQ20+AR20+AV20+AS20+AT20)*0.4062) -> 0 | BQ20: =(T20+U20+V20+W20+Y20+AA20+AC20+AE20+AN20+AO20+X20+AP20+AG20+AI20+AK20+AL20+AM20+AQ20+AR20+AV20+AS20+AT20+AX20+AZ20+BB20+BC20+BD20+BE20+BF20+BG20+BI20+BJ20+BK20+BL20+BM20+BN20+BO20+BP20)*R20*S20 -> 0 | BR20: =BQ20*$D$9 -> 0 | BW20: =(+T20+U20+V20+W20+Y20+AA20+AC20+AE20+AN20+AO20+X20+AP20+AG20+AI20+AK20+AL20+AM20+AQ20+AR20+AV20+AS20+AT20)*R20*S20 -> 0 | BX20: =(AX20+AZ20+BB20+BC20+BD20+BE20+BF20+BG20+BI20+BJ20)*R20*S20 -> 0 | BY20: =SUM(BK20:BM20)*R20*S20 -> 0 | BZ20: =SUM(BN20:BP20)*R20*S20 -> 0 | CA20: =SUM(BW20:BZ20) -> 0 | CB20: =+CA20*$D$9 -> 0 | CD20: =IF(FK20=0,"","Controlar Aprop.") | FJ20: =SUM(CF20:FG20)*CB20 -> 0 | FK20: =CB20-FJ20 -> 0
BK21: =(T21+U21+V21+W21+Y21+AA21+AC21+AE21+AN21+AO21+X21+AP21+AG21+AI21+AK21+AL21+AM21+AQ21+AR21+AV21+AS21+AT21)*0.08333 -> 0 | BL21: =(T21+U21+V21+W21+Y21+AA21+AC21+AE21+AN21+AO21+X21+AP21+AG21+AI21+AK21+AL21+AM21+AQ21+AR21+AV21+AS21+AT21)*0.014 -> 0 | BM21: =((T21+U21+V21+W21+Y21+AA21+AC21+AE21+AN21+AO21+X21+AP21+AG21+AI21+AK21+AL21+AM21+AQ21+AR21+AV21+AS21+AT21)*0.4062) -> 0 | BQ21: =(T21+U21+V21+W21+Y21+AA21+AC21+AE21+AN21+AO21+X21+AP21+AG21+AI21+AK21+AL21+AM21+AQ21+AR21+AV21+AS21+AT21+AX21+AZ21+BB21+BC21+BD21+BE21+BF21+BG21+BI21+BJ21+BK21+BL21+BM21+BN21+BO21+BP21)*R21*S21 -> 0 | BR21: =BQ21*$D$9 -> 0 | BW21: =(+T21+U21+V21+W21+Y21+AA21+AC21+AE21+AN21+AO21+X21+AP21+AG21+AI21+AK21+AL21+AM21+AQ21+AR21+AV21+AS21+AT21)*R21*S21 -> 0 | BX21: =(AX21+AZ21+BB21+BC21+BD21+BE21+BF21+BG21+BI21+BJ21)*R21*S21 -> 0 | BY21: =SUM(BK21:BM21)*R21*S21 -> 0 | BZ21: =SUM(BN21:BP21)*R21*S21 -> 0 | CA21: =SUM(BW21:BZ21) -> 0 | CB21: =+CA21*$D$9 -> 0 | CD21: =IF(FK21=0,"","Controlar Aprop.") | FJ21: =SUM(CF21:FG21)*CB21 -> 0 | FK21: =CB21-FJ21 -> 0
BK22: =(T22+U22+V22+W22+Y22+AA22+AC22+AE22+AN22+AO22+X22+AP22+AG22+AI22+AK22+AL22+AM22+AQ22+AR22+AV22+AS22+AT22)*0.08333 -> 0 | BL22: =(T22+U22+V22+W22+Y22+AA22+AC22+AE22+AN22+AO22+X22+AP22+AG22+AI22+AK22+AL22+AM22+AQ22+AR22+AV22+AS22+AT22)*0.014 -> 0 | BM22: =((T22+U22+V22+W22+Y22+AA22+AC22+AE22+AN22+AO22+X22+AP22+AG22+AI22+AK22+AL22+AM22+AQ22+AR22+AV22+AS22+AT22)*0.4062) -> 0 | BQ22: =(T22+U22+V22+W22+Y22+AA22+AC22+AE22+AN22+AO22+X22+AP22+AG22+AI22+AK22+AL22+AM22+AQ22+AR22+AV22+AS22+AT22+AX22+AZ22+BB22+BC22+BD22+BE22+BF22+BG22+BI22+BJ22+BK22+BL22+BM22+BN22+BO22+BP22)*R22*S22 -> 0 | BR22: =BQ22*$D$9 -> 0 | BW22: =(+T22+U22+V22+W22+Y22+AA22+AC22+AE22+AN22+AO22+X22+AP22+AG22+AI22+AK22+AL22+AM22+AQ22+AR22+AV22+AS22+AT22)*R22*S22 -> 0 | BX22: =(AX22+AZ22+BB22+BC22+BD22+BE22+BF22+BG22+BI22+BJ22)*R22*S22 -> 0 | BY22: =SUM(BK22:BM22)*R22*S22 -> 0 | BZ22: =SUM(BN22:BP22)*R22*S22 -> 0 | CA22: =SUM(BW22:BZ22) -> 0 | CB22: =+CA22*$D$9 -> 0 | CD22: =IF(FK22=0,"","Controlar Aprop.") | FJ22: =SUM(CF22:FG22)*CB22 -> 0 | FK22: =CB22-FJ22 -> 0
BK23: =(T23+U23+V23+W23+Y23+AA23+AC23+AE23+AN23+AO23+X23+AP23+AG23+AI23+AK23+AL23+AM23+AQ23+AR23+AV23+AS23+AT23)*0.08333 -> 0 | BL23: =(T23+U23+V23+W23+Y23+AA23+AC23+AE23+AN23+AO23+X23+AP23+AG23+AI23+AK23+AL23+AM23+AQ23+AR23+AV23+AS23+AT23)*0.014 -> 0 | BM23: =((T23+U23+V23+W23+Y23+AA23+AC23+AE23+AN23+AO23+X23+AP23+AG23+AI23+AK23+AL23+AM23+AQ23+AR23+AV23+AS23+AT23)*0.4062) -> 0 | BQ23: =(T23+U23+V23+W23+Y23+AA23+AC23+AE23+AN23+AO23+X23+AP23+AG23+AI23+AK23+AL23+AM23+AQ23+AR23+AV23+AS23+AT23+AX23+AZ23+BB23+BC23+BD23+BE23+BF23+BG23+BI23+BJ23+BK23+BL23+BM23+BN23+BO23+BP23)*R23*S23 -> 0 | BR23: =BQ23*$D$9 -> 0 | BW23: =(+T23+U23+V23+W23+Y23+AA23+AC23+AE23+AN23+AO23+X23+AP23+AG23+AI23+AK23+AL23+AM23+AQ23+AR23+AV23+AS23+AT23)*R23*S23 -> 0 | BX23: =(AX23+AZ23+BB23+BC23+BD23+BE23+BF23+BG23+BI23+BJ23)*R23*S23 -> 0 | BY23: =SUM(BK23:BM23)*R23*S23 -> 0 | BZ23: =SUM(BN23:BP23)*R23*S23 -> 0 | CA23: =SUM(BW23:BZ23) -> 0 | CB23: =+CA23*$D$9 -> 0 | CD23: =IF(FK23=0,"","Controlar Aprop.") | FJ23: =SUM(CF23:FG23)*CB23 -> 0 | FK23: =CB23-FJ23 -> 0
BK24: =(T24+U24+V24+W24+Y24+AA24+AC24+AE24+AN24+AO24+X24+AP24+AG24+AI24+AK24+AL24+AM24+AQ24+AR24+AV24+AS24+AT24)*0.08333 -> 0 | BL24: =(T24+U24+V24+W24+Y24+AA24+AC24+AE24+AN24+AO24+X24+AP24+AG24+AI24+AK24+AL24+AM24+AQ24+AR24+AV24+AS24+AT24)*0.014 -> 0 | BM24: =((T24+U24+V24+W24+Y24+AA24+AC24+AE24+AN24+AO24+X24+AP24+AG24+AI24+AK24+AL24+AM24+AQ24+AR24+AV24+AS24+AT24)*0.4062) -> 0 | BQ24: =(T24+U24+V24+W24+Y24+AA24+AC24+AE24+AN24+AO24+X24+AP24+AG24+AI24+AK24+AL24+AM24+AQ24+AR24+AV24+AS24+AT24+AX24+AZ24+BB24+BC24+BD24+BE24+BF24+BG24+BI24+BJ24+BK24+BL24+BM24+BN24+BO24+BP24)*R24*S24 -> 0 | BR24: =BQ24*$D$9 -> 0 | BW24: =(+T24+U24+V24+W24+Y24+AA24+AC24+AE24+AN24+AO24+X24+AP24+AG24+AI24+AK24+AL24+AM24+AQ24+AR24+AV24+AS24+AT24)*R24*S24 -> 0 | BX24: =(AX24+AZ24+BB24+BC24+BD24+BE24+BF24+BG24+BI24+BJ24)*R24*S24 -> 0 | BY24: =SUM(BK24:BM24)*R24*S24 -> 0 | BZ24: =SUM(BN24:BP24)*R24*S24 -> 0 | CA24: =SUM(BW24:BZ24) -> 0 | CB24: =+CA24*$D$9 -> 0 | CD24: =IF(FK24=0,"","Controlar Aprop.") | FJ24: =SUM(CF24:FG24)*CB24 -> 0 | FK24: =CB24-FJ24 -> 0
BK25: =(T25+U25+V25+W25+Y25+AA25+AC25+AE25+AN25+AO25+X25+AP25+AG25+AI25+AK25+AL25+AM25+AQ25+AR25+AV25+AS25+AT25)*0.08333 -> 0 | BL25: =(T25+U25+V25+W25+Y25+AA25+AC25+AE25+AN25+AO25+X25+AP25+AG25+AI25+AK25+AL25+AM25+AQ25+AR25+AV25+AS25+AT25)*0.014 -> 0 | BM25: =((T25+U25+V25+W25+Y25+AA25+AC25+AE25+AN25+AO25+X25+AP25+AG25+AI25+AK25+AL25+AM25+AQ25+AR25+AV25+AS25+AT25)*0.4062) -> 0 | BQ25: =(T25+U25+V25+W25+Y25+AA25+AC25+AE25+AN25+AO25+X25+AP25+AG25+AI25+AK25+AL25+AM25+AQ25+AR25+AV25+AS25+AT25+AX25+AZ25+BB25+BC25+BD25+BE25+BF25+BG25+BI25+BJ25+BK25+BL25+BM25+BN25+BO25+BP25)*R25*S25 -> 0 | BR25: =BQ25*$D$9 -> 0 | BW25: =(+T25+U25+V25+W25+Y25+AA25+AC25+AE25+AN25+AO25+X25+AP25+AG25+AI25+AK25+AL25+AM25+AQ25+AR25+AV25+AS25+AT25)*R25*S25 -> 0 | BX25: =(AX25+AZ25+BB25+BC25+BD25+BE25+BF25+BG25+BI25+BJ25)*R25*S25 -> 0 | BY25: =SUM(BK25:BM25)*R25*S25 -> 0 | BZ25: =SUM(BN25:BP25)*R25*S25 -> 0 | CA25: =SUM(BW25:BZ25) -> 0 | CB25: =+CA25*$D$9 -> 0 | CD25: =IF(FK25=0,"","Controlar Aprop.") | FJ25: =SUM(CF25:FG25)*CB25 -> 0 | FK25: =CB25-FJ25 -> 0
BK26: =(T26+U26+V26+W26+Y26+AA26+AC26+AE26+AN26+AO26+X26+AP26+AG26+AI26+AK26+AL26+AM26+AQ26+AR26+AV26+AS26+AT26)*0.08333 -> 0 | BL26: =(T26+U26+V26+W26+Y26+AA26+AC26+AE26+AN26+AO26+X26+AP26+AG26+AI26+AK26+AL26+AM26+AQ26+AR26+AV26+AS26+AT26)*0.014 -> 0 | BM26: =((T26+U26+V26+W26+Y26+AA26+AC26+AE26+AN26+AO26+X26+AP26+AG26+AI26+AK26+AL26+AM26+AQ26+AR26+AV26+AS26+AT26)*0.4062) -> 0 | BQ26: =(T26+U26+V26+W26+Y26+AA26+AC26+AE26+AN26+AO26+X26+AP26+AG26+AI26+AK26+AL26+AM26+AQ26+AR26+AV26+AS26+AT26+AX26+AZ26+BB26+BC26+BD26+BE26+BF26+BG26+BI26+BJ26+BK26+BL26+BM26+BN26+BO26+BP26)*R26*S26 -> 0 | BR26: =BQ26*$D$9 -> 0 | BW26: =(+T26+U26+V26+W26+Y26+AA26+AC26+AE26+AN26+AO26+X26+AP26+AG26+AI26+AK26+AL26+AM26+AQ26+AR26+AV26+AS26+AT26)*R26*S26 -> 0 | BX26: =(AX26+AZ26+BB26+BC26+BD26+BE26+BF26+BG26+BI26+BJ26)*R26*S26 -> 0 | BY26: =SUM(BK26:BM26)*R26*S26 -> 0 | BZ26: =SUM(BN26:BP26)*R26*S26 -> 0 | CA26: =SUM(BW26:BZ26) -> 0 | CB26: =+CA26*$D$9 -> 0 | CD26: =IF(FK26=0,"","Controlar Aprop.") | FJ26: =SUM(CF26:FG26)*CB26 -> 0 | FK26: =CB26-FJ26 -> 0
BK27: =(T27+U27+V27+W27+Y27+AA27+AC27+AE27+AN27+AO27+X27+AP27+AG27+AI27+AK27+AL27+AM27+AQ27+AR27+AV27+AS27+AT27)*0.08333 -> 0 | BL27: =(T27+U27+V27+W27+Y27+AA27+AC27+AE27+AN27+AO27+X27+AP27+AG27+AI27+AK27+AL27+AM27+AQ27+AR27+AV27+AS27+AT27)*0.014 -> 0 | BM27: =((T27+U27+V27+W27+Y27+AA27+AC27+AE27+AN27+AO27+X27+AP27+AG27+AI27+AK27+AL27+AM27+AQ27+AR27+AV27+AS27+AT27)*0.4062) -> 0 | BQ27: =(T27+U27+V27+W27+Y27+AA27+AC27+AE27+AN27+AO27+X27+AP27+AG27+AI27+AK27+AL27+AM27+AQ27+AR27+AV27+AS27+AT27+AX27+AZ27+BB27+BC27+BD27+BE27+BF27+BG27+BI27+BJ27+BK27+BL27+BM27+BN27+BO27+BP27)*R27*S27 -> 0 | BR27: =BQ27*$D$9 -> 0 | BW27: =(+T27+U27+V27+W27+Y27+AA27+AC27+AE27+AN27+AO27+X27+AP27+AG27+AI27+AK27+AL27+AM27+AQ27+AR27+AV27+AS27+AT27)*R27*S27 -> 0 | BX27: =(AX27+AZ27+BB27+BC27+BD27+BE27+BF27+BG27+BI27+BJ27)*R27*S27 -> 0 | BY27: =SUM(BK27:BM27)*R27*S27 -> 0 | BZ27: =SUM(BN27:BP27)*R27*S27 -> 0 | CA27: =SUM(BW27:BZ27) -> 0 | CB27: =+CA27*$D$9 -> 0 | CD27: =IF(FK27=0,"","Controlar Aprop.") | FJ27: =SUM(CF27:FG27)*CB27 -> 0 | FK27: =CB27-FJ27 -> 0
... BK294: =(T294+U294+V294+W294+Y294+AA294+AC294+AE294+AN294+AO294+X294+AP294+AG294+AI294+AK294+AL294+AM294+AQ294+AR294+AV294+AS294+AT294)*0.08333 -> 0 | BL294: =(T294+U294+V294+W294+Y294+AA294+AC294+AE294+AN294+AO294+X294+AP294+AG294+AI294+AK294+AL294+AM294+AQ294+AR294+AV294+AS294+AT294)*0.014 -> 0 | BM294: =((T294+U294+V294+W294+Y294+AA294+AC294+AE294+AN294+AO294+X294+AP294+AG294+AI294+AK294+AL294+AM294+AQ294+AR294+AV294+AS294+AT294)*0.4062) -> 0 | BQ294: =(T294+U294+V294+W294+Y294+AA294+AC294+AE294+AN294+AO294+X294+AP294+AG294+AI294+AK294+AL294+AM294+AQ294+AR294+AV294+AS294+AT294+AX294+AZ294+BB294+BC294+BD294+BE294+BF294+BG294+BI294+BJ294+BK294+BL294+BM294+BN294+BO294+BP294)*R294*S294 -> 0 | BR294: =BQ294*$D$9 -> 0 | BW294: =(+T294+U294+V294+W294+Y294+AA294+AC294+AE294+AN294+AO294+X294+AP294+AG294+AI294+AK294+AL294+AM294+AQ294+AR294+AV294+AS294+AT294)*R294*S294 -> 0 | BX294: =(AX294+AZ294+BB294+BC294+BD294+BE294+BF294+BG294+BI294+BJ294)*R294*S294 -> 0 | BY294: =SUM(BK294:BM294)*R294*S294 -> 0 | BZ294: =SUM(BN294:BP294)*R294*S294 -> 0 | CA294: =SUM(BW294:BZ294) -> 0 | CB294: =+CA294*$D$9 -> 0 | CD294: =IF(FK294=0,"","Controlar Aprop.") | FJ294: =SUM(CF294:FG294)*CB294 -> 0 | FK294: =CB294-FJ294 -> 0
R295: TOTALES | T295: =SUM(T15:T294) -> 0 | U295: =SUM(U15:U294) -> 0 | V295: =SUM(V15:V294) -> 0 | W295: =SUM(W15:W294) -> 0 | X295: =SUM(X15:X294) -> 0 | Y295: =SUM(Y15:Y294) -> 0 | AA295: =SUM(AA15:AA294) -> 0 | AC295: =SUM(AC15:AC294) -> 0 | AE295: =SUM(AE15:AE294) -> 0 | AG295: =SUM(AG15:AG294) -> 0 | AI295: =SUM(AI15:AI294) -> 0 | AK295: =SUM(AK15:AK294) -> 0 | AL295: =SUM(AL15:AL294) -> 0 | AM295: =SUM(AM15:AM294) -> 0 | AN295: =SUM(AN15:AN294) -> 0 | AO295: =SUM(AO15:AO294) -> 0 | AP295: =SUM(AP15:AP294) -> 0 | AQ295: =SUM(AQ15:AQ294) -> 0 | AR295: =SUM(AR15:AR294) -> 0 | ... AT295: =SUM(AT15:AT294) -> 0 | AV295: =SUM(AV15:AV294) -> 0 | AX295: =SUM(AX15:AX294) -> 0 | AZ295: =SUM(AZ15:AZ294) -> 0 | BB295: =SUM(BB15:BB294) -> 0 | BC295: =SUM(BC15:BC294) -> 0 | BD295: =SUM(BD15:BD294) -> 0 | BE295: =SUM(BE15:BE294) -> 0 | BF295: =SUM(BF15:BF294) -> 0 | BG295: =SUM(BG15:BG294) -> 0 | BI295: =SUM(BI15:BI294) -> 0 | BJ295: =SUM(BJ15:BJ294) -> 0 | BN295: =SUM(BN15:BN294) -> 0 | BO295: =SUM(BO15:BO294) -> 0 | BP295: =SUM(BP15:BP294) -> 0 | BQ295: =SUM(BQ15:BQ294) -> 0 | BR295: =SUM(BR15:BR294) -> 0 | BW295: =SUM(BW15:BW294) -> 0 | BX295: =SUM(BX15:BX294) -> 0 | BY295: =SUM(BY15:BY294) -> 0 | BZ295: =SUM(BZ15:BZ294) -> 0 | CA295: =SUM(CA15:CA294) -> 0 | CB295: =SUM(CB15:CB294) -> 0 | CF295: =SUMPRODUCT($CB16:$CB294,CF16:CF294) -> 0 | CG295: =SUMPRODUCT($CB16:$CB294,CG16:CG294) -> 0 | CH295: =SUMPRODUCT($CB16:$CB294,CH16:CH294) -> 0 | CI295: =SUMPRODUCT($CB16:$CB294,CI16:CI294) -> 0 | CJ295: =SUMPRODUCT($CB16:$CB294,CJ16:CJ294) -> 0 | CK295: =SUMPRODUCT($CB16:$CB294,CK16:CK294) -> 0 | CL295: =SUMPRODUCT($CB16:$CB294,CL16:CL294) -> 0 | CM295: =SUMPRODUCT($CB16:$CB294,CM16:CM294) -> 0 | ... FG295: =SUMPRODUCT($CB16:$CB294,FG16:FG294) -> 0
BV297: Gremio / Período | BW297: =+BW$13 -> Remunerativos | BX297: =+BX$13 -> No Remunerativos | BY297: =+BY$13 -> SAC Vacaciones Cargas Sociales | BZ297: =+BZ$13 -> Otros | CA297: =+CA$13 -> Total Mensual | CB297: =+CB$13 -> Total Contrato
BW298: DETERMINACION DE LA VARIACIÓN PORCENTUAL DE LOS AJUSTES
BT299: INDICE
BV300: Totales para este Gremio | BW300: =SUMIF($F$15:$F$294,+$BV299,$BW$15:$BW$294) -> 0 | BX300: =SUMIF($F$15:$F$294,+$BV299,$BX$15:$BX$294) -> 0 | BY300: =SUMIF($F$15:$F$294,+$BV299,$BY$15:$BY$294) -> 0 | BZ300: =SUMIF($F$15:$F$294,+$BV299,$BZ$15:$BZ$294) -> 0 | CA300: =SUM(BW300:BZ300) -> 0 | CB300: =+CA300*$D$9 -> 0
BV307: Totales para este Gremio | BW307: =SUMIF($F$15:$F$294,+$BV306,$BW$15:$BW$294) -> 0 | BX307: =SUMIF($F$15:$F$294,+$BV306,$BX$15:$BX$294) -> 0 | BY307: =SUMIF($F$15:$F$294,+$BV306,$BY$15:$BY$294) -> 0 | BZ307: =SUMIF($F$15:$F$294,+$BV306,$BZ$15:$BZ$294) -> 0 | CA307: =SUM(BW307:BZ307) -> 0 | CB307: =+CA307*$D$9 -> 0
BV314: Totales para este Gremio | BW314: =SUMIF($F$15:$BZ$294,+$BV313,$BW$15:$BW$294) -> 0 | BX314: =SUMIF($F$15:$BZ$294,+$BV313,$BX$15:$BX$294) -> 0 | BY314: =SUMIF($F$15:$BZ$294,+$BV313,$BY$15:$BY$294) -> 0 | BZ314: =SUMIF($F$15:$BZ$294,+$BV313,$BZ$15:$BZ$294) -> 0 | CA314: =SUM(BW314:BZ314) -> 0 | CB314: =+CA314*$D$9 -> 0
CA316: =SUM(BW316:BZ316) -> 0 | CB316: =+CA316*$D$9 -> 0
CA317: =SUM(BW317:BZ317) -> 0 | CB317: =+CA317*$D$9 -> 0
CA318: =SUM(BW318:BZ318) -> 0 | CB318: =+CA318*$D$9 -> 0
BV321: Totales para este Gremio | BW321: =SUMIF($F$15:$F$294,+$BV320,$BW$15:$BW$294) -> 0 | BX321: =SUMIF($F$15:$F$294,+$BV320,$BX$15:$BX$294) -> 0 | BY321: =SUMIF($F$15:$F$294,+$BV320,$BY$15:$BY$294) -> 0 | BZ321: =SUMIF($F$15:$F$294,+$BV320,$BZ$15:$BZ$294) -> 0 | CA321: =SUM(BW321:BZ321) -> 0 | CB321: =+CA321*$D$9 -> 0
CA323: =SUM(BW323:BZ323) -> 0 | CB323: =+CA323*$D$9 -> 0
CA324: =SUM(BW324:BZ324) -> 0 | CB324: =+CA324*$D$9 -> 0
CA325: =SUM(BW325:BZ325) -> 0 | CB325: =+CA325*$D$9 -> 0
...

Sheet MATERIALES-INSUMOS
B2: A N E X O I I I - DISCRIMINACIÓN DE PRECIOS
B4: Apellido y Nombre o Denominación del Contratista: | C4: ='INMUEBLES EQUIPOS Y RODADOS'!C4 -> 0 | L4: CONTRATO DE SERVICIO | N4: FS. 3
B5: CUIT: | C5: ='INMUEBLES EQUIPOS Y RODADOS'!C5 -> 0 | L5: MATERIALES E INSUMOS
B6: Contrato N°: | C6: ='INMUEBLES EQUIPOS Y RODADOS'!C6 -> 0
B7: Fecha inicio: | C7: ='INMUEBLES EQUIPOS Y RODADOS'!C7 -> 0 | E7: Fecha Información: | F7: ='Información de Cabecera'!F9 -> 42036
B8: Zona: | C8: ='INMUEBLES EQUIPOS Y RODADOS'!C8 -> #VALUE!
B9: Duración (en meses): | C9: ='INMUEBLES EQUIPOS Y RODADOS'!C9 -> 36
Y10: APROPIACION DE PRECIOS - PONDERACION PORCENTUAL DEL COSTO IER POR ITEMS
D11: INDICE
Y12: Item | Z12: Item | AA12: Item | AB12: Item | AC12: Item | AD12: Item | AE12: Item | AF12: Item | AG12: Item | AH12: Item | AI12: Item | AJ12: Item | AK12: Item | AL12: Item | AM12: Item | AN12: Item | AO12: Item | AP12: Item | AQ12: Item | AR12: Item | AS12: Item | AT12: Item | AU12: Item | AV12: Item | AW12: Item | AX12: Item | AY12: Item | AZ12: Item | BA12: Item | BB12: Item | BC12: Item | BD12: Item | BE12: Item | BF12: Item | BG12: Item | BH12: Item | BI12: Item | BJ12: Item | BK12: Item | BL12: Item | BM12: Item | BN12: Item | BO12: Item | BP12: Item | BQ12: Item | BR12: Item | BS12: Item | BT12: Item | BU12: Item | BV12: Item | BW12: Item | BX12: Item | BY12: Item | BZ12: Item | CA12: Item | CB12: Item | CC12: Item | CD12: Item | CE12: Item | CF12: Item | CG12: Item | CH12: Item | CI12: Item | CJ12: Item | CK12: Item | CL12: Item | CM12: Item | CN12: Item | CO12: Item | CP12: Item | CQ12: Item | CR12: Item | CS12: Item | CT12: Item | CU12: Item | CV12: Item | CW12: Item | CX12: Item | CY12: Item | CZ12: Item
F13: CÓMPUTO DE MATERIALES - INSUMOS (TOTALES) | Q13: Mes Ajuste | R13: TOTAL IMPUTADO AL CONTRATO | T13: Indice aplicable | U13: Mes Ajuste | V13: TOTAL IMPUTADO AL CONTRATO | Y13: 1 | Z13: 2 | AA13: 3 | AB13: 4 | AC13: 5 | AD13: 6 | AE13: 7 | AF13: 8 | AG13: 9 | AH13: 10 | AI13: 11 | AJ13: 12 | AK13: 13 | AL13: 14 | AM13: 15 | AN13: 16 | AO13: 17 | AP13: 18 | AQ13: 19 | AR13: 20 | AS13: 21 | AT13: 22 | AU13: 23 | AV13: 24 | AW13: 25 | AX13: 26 | AY13: 27 | AZ13: 28 | BA13: 29 | BB13: 30 | BC13: 31 | BD13: 32 | BE13: 33 | BF13: 34 | BG13: 35 | BH13: 36 | BI13: 37 | BJ13: 38 | BK13: 39 | BL13: 40 | BM13: 41 | BN13: 42 | BO13: 43 | BP13: 44 | BQ13: 45 | BR13: 46 | BS13: 47 | BT13: 48 | BU13: 49 | BV13: 50 | BW13: 51 | BX13: 52 | BY13: 53 | BZ13: 54 | CA13: 55 | CB13: 56 | CC13: 57 | CD13: 58 | CE13: 59 | CF13: 60 | CG13: 61 | CH13: 62 | CI13: 63 | CJ13: 64 | CK13: 65 | CL13: 66 | CM13: 67 | CN13: 68 | CO13: 69 | CP13: 70 | CQ13: 71 | CR13: 72 | CS13: 73 | CT13: 74 | CU13: 75 | CV13: 76 | CW13: 77 | CX13: 78 | CY13: 79 | CZ13: 80
