Workbook
Name ajusteMO: #REF!
Name Indices: [1]Validaciones!$B$79:$B$83
Name Insumos_Directo_Indirecto: [1]Validaciones!$B$61:$B$63
Name Insumos_Directo_Indirecto: [2]Validaciones!$B$61:$B$63
Name T_Actividad: [1]Validaciones!$B$4:$B$8
Name T_Gremio: [1]Validaciones!$D$4:$D$38
Name T_Nro_CCT: [1]Validaciones!$F$4:$F$11
Name T_Provincia: [1]Validaciones!$B$11:$B$17
Name T_Relac_con_servic: [1]Validaciones!$B$39:$B$42
Name T_rubro: [1]Validaciones!$F$19:$F$23
Name T_sino: [1]Validaciones!$B$28:$B$29
Name T_Situac_actual: [1]Validaciones!$B$34:$B$35
Name T_Tipo_neumat: [1]Validaciones!$B$46:$B$47
Name T_UUNN: [1]Validaciones!$B$23:$B$25
Name Tipo_Insumos: [1]Validaciones!$B$69:$B$73
Name Tipo_Insumos: [2]Validaciones!$B$69:$B$73
Name Vehículos: [1]Validaciones!#REF!
Name Vehículos: [1]Validaciones!#REF!
Name Zona: [1]Validaciones!$B$51:$B$57

Sheet Información de Cabecera
B3: Apellido y Nombre o Denominación del Contratista: | C3: Oil Addper Service (Grupo OAS)
B5: CUIT: | C5: 30728582545
B7: Contrato N°:
B9: Fecha inicio: | E9: Fecha Información | F9: 42005
B11: Provincias donde se ejecuta: | C11: NEUQUEN | D11: . | E11: . | F11: .
B13: Porcentaje Incidencia | C13: 1 | G13: Total | H13: =+C13+D13+E13+F13 -> 1
B15: Duración (en meses): | C15: 36
B17: Descripción del servicio | C17: "SRV. PRUEBAS HIDRÁULICAS A POZOS INYECTORES - UN NQN Y RN"

Sheet ANEXO X.a
B2: =+'ANEXO X.b'!B2:K2 -> CONCURSO DE PRECIOS N° 53-7297-15
B5: ANEXO X.a - NOMINA DEL PERSONAL OFRECIDO PARA LA REALIZACION DE LOS TRABAJOS
B7: Apellido y Nombre o Denominación del contratista: | C7: =+'Información de Cabecera'!C3:G3 -> Oil Addper Service (Grupo OAS)
B8: CUIT: | C8: =+'Información de Cabecera'!C5:D5 -> 30728582545
B9: Contrato N°: | C9: =+'Información de Cabecera'!C7:D7 -> 0
B10: Fecha inicio: | C10: =+'Información de Cabecera'!C9:D9 -> 0
B11: Zona: | C11: =+'Información de Cabecera'!C11&" "&'Información de Cabecera'!D11&" "&'Información de Cabecera'!E11&" "&'Información de Cabecera'!F11 -> NEUQUEN . . .
B12: Duración (en meses): | C12: =+'Información de Cabecera'!C15 -> 36
B15: Apellido y Nombre | C15: CUIL / CUIT | D15: Función | E15: Gremio | F15: Título | G15: Categoría | H15: Turno | I15: Provincia | J15: Área Operativa | K15: % de Afectación al Servicio | L15: Propio / Subcontratado
A16: 1 | B16: XXXX | D16: Operador | E16: Petroleros Privados Neuquen | G16: L | H16: B | I16: Neuquen | J16: Produccion | K16: 1 | L16: Propio
A17: 2 | B17: XXXX | D17: Operador | E17: Petroleros Privados Neuquen | G17: L | H17: B | I17: Neuquen | J17: Produccion | K17: 1 | L17: Propio
A18: 3 | B18: XXXX | D18: Ayudante | E18: Petroleros Privados Neuquen | G18: D | H18: B | I18: Neuquen | J18: Produccion | K18: 1 | L18: Propio
A19: 4 | B19: XXXX | D19: Ayudante | E19: Petroleros Privados Neuquen | G19: D | H19: B | I19: Neuquen | J19: Produccion | K19: 1 | L19: Propio
A20: 5 | B20: XXXX | D20: Supervisor | E20: Personal Jerarquico Neuquen | I20: Neuquen | J20: Produccion | K20: 1 | L20: Propio
A21: 6 | B21: XXXX | D21: Gerente Operaciones | E21: Personal Jerarquico Neuquen | I21: Neuquen | J21: Produccion | K21: 0.07 | L21: Propio
A22: 7 | B22: XXXX | D22: Responsable Seguridad | E22: Personal Jerarquico Neuquen | I22: Rio Negro | J22: Produccion | K22: 0.05 | L22: Propio
A23: 8 | B23: XXXX | D23: Relevo Vacaciones Operadores | E23: Petroleros Privados Neuquen | G23: L | H23: B | I23: Rio Negro | J23: Produccion | K23: 0.03 | L23: Propio
A24: 9 | B24: XXXX | D24: Relevo Vacaciones Ayudantes | E24: Petroleros Privados Neuquen | G24: D | H24: B | I24: Rio Negro | J24: Produccion | K24: 0.03 | L24: Propio
A25: 10 | B25: XXXX | D25: Auxiliar de Seguridad | E25: Personal Jerarquico Neuquen | I25: Rio Negro | J25: Produccion | K25: 0.35 | L25: Propio
A26: 11 | B26: XXXX | D26: RRHH | E26: Personal Jerarquico Neuquen | I26: Neuquen | J26: Produccion | K26: 0.075 | L26: Propio
A27: 12 | B27: XXXX | D27: Administracion | E27: Personal Jerarquico Neuquen | I27: Neuquen | J27: Produccion | K27: 0.075 | L27: Propio
A28: 13 | B28: XXXX | D28: Coordinación | E28: Petroleros Privados Neuquen | G28: H | H28: B | I28: La Pampa | J28: Produccion | K28: 0.2 | L28: Propio
A29: 14 | B29: XXXX | D29: Mecanico | E29: Petroleros Privados Neuquen | G29: L | H29: B | I29: Neuquen | J29: Produccion | K29: 0.2 | L29: Propio
A30: 15 | D30: Electricista | E30: Petroleros Privados Neuquen | G30: D | H30: B | I30: Neuquen | J30: Produccion | K30: 0.25 | L30: Propio
A31: 16
A32: 17
A33: 18
A34: 19
A35: 20
A36: 21
A37: 22
A38: 23
A39: 24
A40: 25
A41: 26
A42: 27
... A50: 35

Sheet ANEXO X.b
B2: CONCURSO DE PRECIOS N° 53-7297-15
B5: ANEXO X.b - NOMINA DE EQUIPOS, VEHICULOS y HERRAMIENTAS
B7: Apellido y Nombre o Denominación del contratista: | C7: =+'Información de Cabecera'!C3:G3 -> Oil Addper Service (Grupo OAS)
B8: CUIT: | C8: =+'Información de Cabecera'!C5:D5 -> 30728582545
B9: Contrato N°: | C9: =+'Información de Cabecera'!C7:D7 -> 0
B10: Fecha inicio: | C10: =+'Información de Cabecera'!C9:D9 -> 0
B11: Zona: | C11: =+'Información de Cabecera'!C11&" "&'Información de Cabecera'!D11&" "&'Información de Cabecera'!E11&" "&'Información de Cabecera'!F11 -> NEUQUEN . . .
B12: Duración (en meses): | C12: =+'Información de Cabecera'!C15 -> 36
B14: Descripción del equipo | C14: Afectación al contrato (en %) | D14: Cantidad | E14: Potencia HP | F14: Marca y modelo | G14: Matrícula | H14: Año de fabricación | I14: Vida útil estimada | J14: Propio / Alquilado | K14: MAGNITUD KM-HS
A15: 1 | B15: Motobomba | C15: 100 | D15: 2 | E15: 310 | F15: VW | H15: 2015 | I15: 10 | J15: Propio | K15: Horas
A16: 2 | B16: Unidad Liviana 4 x 4 | C16: 100 | D16: 2 | E16: 3 | F16: Toyota | H16: 2015 | I16: 5 | J16: Propio | K16: Kilometros
A17: 3 | B17: Unidad Liviana 4 x 5 | C17: 100 | D17: 2 | E17: 3 | F17: Toyota | H17: 2015 | I17: 5 | J17: Alquilada | K17: Kilometros
A18: 4 | B18: Obrador | C18: 100 | D18: 1
A19: 5
A20: 6
A21: 7
A22: 8
A23: 9
A24: 10
A25: 11
A26: 12
A27: 13
A28: 14
A29: 15
A30: 16
... A49: 35

Sheet ANEXO XI
B2: ='ANEXO X.b'!B2:K2 -> CONCURSO DE PRECIOS N° 53-7297-15
B5: ANEXO XI - NOMINA DE MATERIALES
B7: Apellido y Nombre o Denominación del contratista: | C7: =+'Información de Cabecera'!C3:G3 -> Oil Addper Service (Grupo OAS)
B8: CUIT: | C8: =+'Información de Cabecera'!C5:D5 -> 30728582545
B9: Contrato N°: | C9: =+'Información de Cabecera'!C7:D7 -> 0
B10: Fecha inicio: | C10: =+'Información de Cabecera'!C9:D9 -> 0
B11: Zona: | C11: =+'Información de Cabecera'!C11&" "&'Información de Cabecera'!D11&" "&'Información de Cabecera'!E11&" "&'Información de Cabecera'!F11 -> NEUQUEN . . .
B12: Duración (en meses): | C12: =+'Información de Cabecera'!C15 -> 36
A14: ORDEN | B14: DESCRIPCIÓN | C14: AFECTACIÓN AL CONTRATO | D14: TIPO | E14: UNIDAD DE MEDIDA | F14: CANTIDAD | G14: MARCA DEL MATERIAL
C15: (en %)
A17: 1 | B17: Lineas de bombeo | C17: 1 | D17: Insumos Consumibles | E17: Unidad | F17: 6
A18: 2 | B18: Certificacion linea de bombeo | C18: 1 | D18: Insumos Consumibles | E18: Unidad | F18: 6
A19: 3 | B19: Mantenimiento Registrador electronico | C19: 1 | D19: Materiales | E19: Unidad | F19: 2
A20: 4 | B20: Manometros analogicos | C20: 1 | D20: Instrumentos | E20: Unidad | F20: 8
A21: 5 | B21: Certificacion manometros analogicos | C21: 1 | D21: Insumos Consumibles | E21: Unidad | F21: 7
A22: 6 | B22: Transmisores de presion | C22: 1 | D22: Instrumentos | E22: Unidad | F22: 4
A23: 7 | B23: DETECTOR MSA ALTAIR 4X CON CERTIFICADO | C23: 1 | D23: Instrumentos | E23: Unidad | F23: 2
A24: 8 | B24: CERTIFICACION DETECTOR MSA ALTAIR | C24: 1 | D24: Instrumentos | E24: Unidad | F24: 10
A25: 9 | B25: Recarga y certificacion de extintores 10 kgm | C25: 1 | D25: Materiales | E25: Unidad | F25: 12
A26: 10 | B26: Recarga y certificacion de extintores 05 kgm | C26: 1 | D26: Materiales | E26: Unidad | F26: 8
A27: 11 | B27: Herramientas varias de mano | C27: 1 | D27: Herramientas | E27: Unidad | F27: 2
A28: 12 | B28: Herramientas Llaves stilson / Masa | C28: 1 | D28: Herramientas | E28: Unidad | F28: 6
... A41: 25 | B41: VTV Unidades Pesadas/Livianas | C41: 1 | D41: Insumos Consumibles | E41: Unidad | F41: 18
A42: 26
A43: 27
A44: 28
A45: 29
A46: 30
