Workbook

Sheet PxQ
B2: PLANILLA DE COTIZACION
B3: SERVICIO DE FLOWBACK Y WELL TESTING
B4: ON CALL
B6: Item | C6: DESCRIPCION | D6: Unidad | E6: Unitario | F6: Cantidad | G6: Total | H6: =130000*2.5 -> 325000
B7: 1 | C7: CARGO BASE - PERSONAL Y PERIFERICOS | D7: $/dia | E7: 3800 | F7: =5*15 -> 75 | G7: =F7*$E7 -> 285000 | H7: 3450 | I7: =5*15 -> 75 | J7: =+H7*I7 -> 258750 | K7: =+J7/G7-1 -> -0.092105263
B8: 2 | C8: SEPARADOR TRIFÁSICO 1440 psi | D8: $/dia | E8: 1300 | F8: =F7 -> 75 | G8: =F8*$E8 -> 97500 | H8: 1600 | I8: =I7 -> 75 | J8: =+H8*I8 -> 120000 | K8: =+J8/G8-1 -> 0.23076923
B9: 3 | C9: DESARENADOR 5K | D9: $/dia | E9: 680 | F9: =F8 -> 75 | G9: =F9*$E9 -> 51000 | H9: 500 | I9: =I8 -> 75 | J9: =+H9*I9 -> 37500 | K9: =+J9/G9-1 -> -0.26470588
B10: 4 | C10: SAND BOX - MEDICION DE ARENA | D10: $/dia | E10: 60 | F10: =F9 -> 75 | G10: =F10*$E10 -> 4500 | H10: 100 | I10: =I9 -> 75 | J10: =+H10*I10 -> 7500 | K10: =+J10/G10-1 -> 0.66666667
B11: 5 | C11: PILETAS DE ACUMULACIÓN | D11: $/dia | E11: 250 | F11: =F10*2 -> 150 | G11: =F11*$E11 -> 37500 | H11: 190 | I11: =I10*2 -> 150 | J11: =+H11*I11 -> 28500 | K11: =+J11/G11-1 -> -0.24
B12: 6 | C12: PILETA CON GOLPEADOR | D12: $/dia | E12: 200 | F12: =F10 -> 75 | G12: =F12*$E12 -> 15000 | H12: 190 | I12: =I10 -> 75 | J12: =+H12*I12 -> 14250 | K12: =+J12/G12-1 -> -0.05
B13: 7 | C13: TRAILER ADICIONAL | D13: $/dia | E13: 60 | F13: =F12 -> 75 | G13: =F13*$E13 -> 4500 | H13: 50 | I13: =I12 -> 75 | J13: =+H13*I13 -> 3750 | K13: =+J13/G13-1 -> -0.16666667
B14: 8 | C14: PERSONAL ADICIONAL | D14: $/personal/dia | E14: 1000 | F14: 20 | G14: =F14*$E14 -> 20000 | H14: 1300 | I14: 20 | J14: =+H14*I14 -> 26000 | K14: =+J14/G14-1 -> 0.3
B15: 9 | C15: STANDBY EQUIPAMIENTO COMPLETO | D15: $/hs | E15: =3132/24 -> 130.5 | F15: =5*48 -> 240 | G15: =F15*$E15 -> 31320 | H15: 150 | I15: =5*48 -> 240 | J15: =+H15*I15 -> 36000 | K15: =+J15/G15-1 -> 0.14942529
B16: 10 | C16: MOVILIZACION | D16: UN | E16: 24000 | F16: 1 | G16: 24000 | H16: 27500 | I16: 1 | J16: =+H16*I16 -> 27500 | K16: =+J16/G16-1 -> 0.14583333
B17: 11 | C17: DESMOVILIZACION | D17: UN | E17: 24000 | F17: 1 | G17: =F17*$E17 -> 24000 | H17: 27500 | I17: 1 | J17: =+H17*I17 -> 27500 | K17: =+J17/G17-1 -> 0.14583333
B18: 12 | C18: DTM ENTRE POZOS | D18: UN | E18: 24000 | F18: 4 | G18: =F18*$E18 -> 96000 | H18: 17500 | I18: 4 | J18: =+H18*I18 -> 70000 | K18: =+J18/G18-1 -> -0.27083333
B19: 13 | C19: CARRETON ADICIONAL | D19: $/km | E19: 15 | F19: =5*360*2 -> 3600 | G19: =F19*$E19 -> 54000 | H19: 12 | I19: =5*360*2 -> 3600 | J19: =+H19*I19 -> 43200 | K19: =+J19/G19-1 -> -0.2
B20: 14 | C20: TRANSPORTE DE CAMION CON HIDRO 10TN | D20: $/km | E20: 10 | F20: =5*360*2 -> 3600 | G20: =F20*$E20 -> 36000 | H20: 10 | I20: =5*360*2 -> 3600 | J20: =+H20*I20 -> 36000 | K20: =+J20/G20-1 -> 0
G22: =SUM(G7:G20) -> 780320 | H22: =+G22*0.937 -> 731159.84 | J22: =SUM(J7:J21) -> 736450 | K22: =+J22/G22 -> 0.94377948
J23: =+G22-J22 -> 43870 | K23: =+K22-1 -> -0.056220525
G24: =+G22*100 -> 78032000

Sheet Hoja1
B2: PLANILLA DE COTIZACION
B3: SERVICIO DE FLOWBACK Y WELL TESTING
B4: ON CALL
B6: Item | C6: DESCRIPCION | D6: Unidad | E6: Unitario | F6: Cantidad | G6: Total | H6: =130000*2.5 -> 325000
B7: 1 | C7: CARGO BASE - PERSONAL Y PERIFERICOS | D7: $/dia | E7: 3450 | F7: =5*15 -> 75 | G7: =F7*$E7 -> 258750 | H7: 3675 | I7: =5*15 -> 75 | J7: =+H7*I7 -> 275625 | K7: =+J7/G7-1 -> 0.065217391 | L7: =+G7/PxQ!G7-1 -> -0.092105263
B8: 2 | C8: SEPARADOR TRIFÁSICO 1440 psi | D8: $/dia | E8: 1600 | F8: =F7 -> 75 | G8: =F8*$E8 -> 120000 | H8: 1225 | I8: =I7 -> 75 | J8: =+H8*I8 -> 91875 | K8: =+J8/G8 -> 0.765625 | L8: =+G8/PxQ!G8-1 -> 0.23076923
B9: 3 | C9: DESARENADOR 5K | D9: $/dia | E9: 500 | F9: =F8 -> 75 | G9: =F9*$E9 -> 37500 | H9: 650 | I9: =I8 -> 75 | J9: =+H9*I9 -> 48750 | K9: =+J9/G9 -> 1.3 | L9: =+G9/PxQ!G9-1 -> -0.26470588
B10: 4 | C10: SAND BOX - MEDICION DE ARENA | D10: $/dia | E10: 100 | F10: =F9 -> 75 | G10: =F10*$E10 -> 7500 | H10: 55 | I10: =I9 -> 75 | J10: =+H10*I10 -> 4125 | K10: =+J10/G10 -> 0.55 | L10: =+G10/PxQ!G10-1 -> 0.66666667
B11: 5 | C11: PILETAS DE ACUMULACIÓN | D11: $/dia | E11: 190 | F11: =F10*2 -> 150 | G11: =F11*$E11 -> 28500 | H11: 225 | I11: =I10*2 -> 150 | J11: =+H11*I11 -> 33750 | K11: =+J11/G11 -> 1.1842105 | L11: =+G11/PxQ!G11-1 -> -0.24
B12: 6 | C12: PILETA CON GOLPEADOR | D12: $/dia | E12: 190 | F12: =F10 -> 75 | G12: =F12*$E12 -> 14250 | H12: 200 | I12: =I10 -> 75 | J12: =+H12*I12 -> 15000 | K12: =+J12/G12 -> 1.0526316 | L12: =+G12/PxQ!G12-1 -> -0.05 | N12: =6*50*100 -> 30000
B13: 7 | C13: TRAILER ADICIONAL | D13: $/dia | E13: 50 | F13: =F12 -> 75 | G13: =F13*$E13 -> 3750 | H13: 50 | I13: =I12 -> 75 | J13: =+H13*I13 -> 3750 | K13: =+J13/G13 -> 1 | L13: =+G13/PxQ!G13-1 -> -0.16666667 | N13: =+N12*22 -> 660000
B14: 8 | C14: PERSONAL ADICIONAL | D14: $/personal/dia | E14: 1300 | F14: 20 | G14: =F14*$E14 -> 26000 | H14: 875 | I14: 20 | J14: =+H14*I14 -> 17500 | K14: =+J14/G14 -> 0.67307692 | L14: =+G14/PxQ!G14-1 -> 0.3
B15: 9 | C15: STANDBY EQUIPAMIENTO COMPLETO | D15: $/hs | E15: 150 | F15: =5*48 -> 240 | G15: =F15*$E15 -> 36000 | H15: 125 | I15: =5*48 -> 240 | J15: =+H15*I15 -> 30000 | K15: =+J15/G15 -> 0.83333333 | L15: =+G15/PxQ!G15-1 -> 0.14942529
B16: 10 | C16: MOVILIZACION | D16: UN | E16: 27500 | F16: 1 | G16: =F16*$E16 -> 27500 | H16: 21850 | I16: 1 | J16: =+H16*I16 -> 21850 | K16: =+J16/G16 -> 0.79454545 | L16: =+G16/PxQ!G16-1 -> 0.14583333
B17: 11 | C17: DESMOVILIZACION | D17: UN | E17: 27500 | F17: 1 | G17: =F17*$E17 -> 27500 | H17: 21850 | I17: 1 | J17: =+H17*I17 -> 21850 | K17: =+J17/G17 -> 0.79454545 | L17: =+G17/PxQ!G17-1 -> 0.14583333
B18: 12 | C18: DTM ENTRE POZOS | D18: UN | E18: 17500 | F18: 4 | G18: =F18*$E18 -> 70000 | H18: 21850 | I18: 4 | J18: =+H18*I18 -> 87400 | K18: =+J18/G18 -> 1.2485714 | L18: =+G18/PxQ!G18-1 -> -0.27083333
B19: 13 | C19: CARRETON ADICIONAL | D19: $/km | E19: 12 | F19: =5*360*2 -> 3600 | G19: =F19*$E19 -> 43200 | H19: 13 | I19: =5*360*2 -> 3600 | J19: =+H19*I19 -> 46800 | K19: =+J19/G19 -> 1.0833333 | L19: =+G19/PxQ!G19-1 -> -0.2
B20: 14 | C20: TRANSPORTE DE CAMION CON HIDRO 10TN | D20: $/km | E20: 10 | F20: =5*360*2 -> 3600 | G20: =F20*$E20 -> 36000 | H20: 10 | I20: =5*360*2 -> 3600 | J20: =+H20*I20 -> 36000 | K20: =+J20/G20 -> 1 | L20: =+G20/PxQ!G20-1 -> 0
G22: =SUM(G7:G20) -> 736450 | H22: =+G22*0.937 -> 690053.65 | J22: =SUM(J7:J21) -> 734275 | K22: =+J22/G22 -> 0.99704664 | L22: =+G22/PxQ!G22 -> 0.94377948
J23: =+G22-J22 -> 2175 | K23: =+K22-1 -> -0.0029533573
G24: =+G22*100 -> 73645000

Sheet Hoja2
B2: PLANILLA DE COTIZACION
B3: SERVICIO DE FLOWBACK Y WELL TESTING
B4: ON CALL
B6: Item | C6: DESCRIPCION | D6: Unidad | E6: Unitario | F6: Cantidad | G6: Total
B7: 1 | C7: CARGO BASE - PERSONAL Y PERIFERICOS | D7: $/dia | E7: 3450 | F7: =5*15 -> 75 | G7: =F7*$E7 -> 258750
B8: 2 | C8: SEPARADOR TRIFÁSICO 1440 psi | D8: $/dia | E8: 1600 | F8: =F7 -> 75 | G8: =F8*$E8 -> 120000
B9: 3 | C9: DESARENADOR 5K | D9: $/dia | E9: 500 | F9: =F8 -> 75 | G9: =F9*$E9 -> 37500
B10: 4 | C10: SAND BOX - MEDICION DE ARENA | D10: $/dia | E10: 100 | F10: =F9 -> 75 | G10: =F10*$E10 -> 7500
B11: 5 | C11: PILETAS DE ACUMULACIÓN | D11: $/dia | E11: 190 | F11: =F10*2 -> 150 | G11: =F11*$E11 -> 28500
B12: 6 | C12: PILETA CON GOLPEADOR | D12: $/dia | E12: 190 | F12: =F10 -> 75 | G12: =F12*$E12 -> 14250
B13: 7 | C13: TRAILER ADICIONAL | D13: $/dia | E13: 50 | F13: =F12 -> 75 | G13: =F13*$E13 -> 3750
B14: 8 | C14: PERSONAL ADICIONAL | D14: $/personal/dia | E14: 1300 | F14: 20 | G14: =F14*$E14 -> 26000
B15: 9 | C15: STANDBY EQUIPAMIENTO COMPLETO | D15: $/hs | E15: 150 | F15: =5*48 -> 240 | G15: =F15*$E15 -> 36000
B16: 10 | C16: MOVILIZACION | D16: UN | E16: 27500 | F16: 1 | G16: =F16*$E16 -> 27500
B17: 11 | C17: DESMOVILIZACION | D17: UN | E17: 27500 | F17: 1 | G17: =F17*$E17 -> 27500
B18: 12 | C18: DTM ENTRE POZOS | D18: UN | E18: 17500 | F18: 4 | G18: =F18*$E18 -> 70000
B19: 13 | C19: CARRETON ADICIONAL | D19: $/km | E19: 12 | F19: =5*360*2 -> 3600 | G19: =F19*$E19 -> 43200
B20: 14 | C20: TRANSPORTE DE CAMION CON HIDRO 10TN | D20: $/km | E20: 10 | F20: =5*360*2 -> 3600 | G20: =F20*$E20 -> 36000
G22: =SUM(G7:G20) -> 736450

Sheet Descuento solicitado 17-08
B2: PLANILLA DE COTIZACION
B3: SERVICIO DE FLOWBACK Y WELL TESTING
B4: ON CALL
B6: Item | C6: DESCRIPCION | D6: Unidad | E6: Unitario | F6: Cantidad | G6: Total
B7: 1 | C7: CARGO BASE - PERSONAL Y PERIFERICOS | D7: $/dia | E7: 3450 | F7: =5*15 -> 75 | G7: =F7*$E7 -> 258750
B8: 2 | C8: SEPARADOR TRIFÁSICO 1440 psi | D8: $/dia | E8: 1600 | F8: =F7 -> 75 | G8: =F8*$E8 -> 120000
B9: 3 | C9: DESARENADOR 5K | D9: $/dia | E9: 500 | F9: =F8 -> 75 | G9: =F9*$E9 -> 37500
B10: 4 | C10: SAND BOX - MEDICION DE ARENA | D10: $/dia | E10: 100 | F10: =F9 -> 75 | G10: =F10*$E10 -> 7500
B11: 5 | C11: PILETAS DE ACUMULACIÓN | D11: $/dia | E11: 190 | F11: =F10*2 -> 150 | G11: =F11*$E11 -> 28500
B12: 6 | C12: PILETA CON GOLPEADOR | D12: $/dia | E12: 190 | F12: =F10 -> 75 | G12: =F12*$E12 -> 14250
B13: 7 | C13: TRAILER ADICIONAL | D13: $/dia | E13: 50 | F13: =F12 -> 75 | G13: =F13*$E13 -> 3750
B14: 8 | C14: PERSONAL ADICIONAL | D14: $/personal/dia | E14: 1300 | F14: 20 | G14: =F14*$E14 -> 26000
B15: 9 | C15: STANDBY EQUIPAMIENTO COMPLETO | D15: $/hs | E15: 150 | F15: =5*48 -> 240 | G15: =F15*$E15 -> 36000
B16: 10 | C16: MOVILIZACION | D16: UN | E16: 23850 | F16: 1 | G16: =F16*$E16 -> 23850
B17: 11 | C17: DESMOVILIZACION | D17: UN | E17: 23850 | F17: 1 | G17: =F17*$E17 -> 23850
B18: 12 | C18: DTM ENTRE POZOS | D18: UN | E18: 15500 | F18: 4 | G18: =F18*$E18 -> 62000
B19: 13 | C19: CARRETON ADICIONAL | D19: $/km | E19: 12 | F19: =5*360*2 -> 3600 | G19: =F19*$E19 -> 43200
B20: 14 | C20: TRANSPORTE DE CAMION CON HIDRO 10TN | D20: $/km | E20: 10 | F20: =5*360*2 -> 3600 | G20: =F20*$E20 -> 36000
G22: =SUM(G7:G20) -> 721150
