Workbook

Sheet Formula
A3: Fórmula
A4: Nombre | B4: Estructura | C4: Gatillo + | D4: Gatillo - | E4: Período Base
A5: Redeterminacion de Tarifa | B5: GASOIL NEU BIOSUR G2 (15,00%) + CCT 644/12 PETR PRIV (60,00%) + IPP MAQ Y EQUIPOS (5,00%) + GLP NQN (20,00%) | C5: 0.1 | D5: 0.1 | E5: 43009
A7: Total Variación Formula s/ Planilla Soporte:
A8: Índice | B8: % | C8: Moneda | D8: 43556 | E8: 43586 | F8: 43617 | G8: 43647 | H8: 43678 | I8: 43709 | J8: 43739 | K8: 43770 | L8: 43891 | M8: 44075 | N8: 44197
A9: GASOIL NEU BIOSUR G2 | B9: 0.15 | C9: ARS | D9: 34.5087 | E9: =+'Gas Oil'!F44 -> 36.4989 | F9: =+'Gas Oil'!F50 -> 37.1366 | G9: =+'Gas Oil'!F54 -> 37.843 | H9: =+'Gas Oil'!F58 -> 37.9323 | I9: =+'Gas Oil'!F62 -> 38.5225 | J9: 39.36 | K9: 43.8 | L9: 46.99 | M9: 49.29 | N9: 59.21
A10: CCT 644/12 PETR PRIV AYUDANTE | B10: 0.6 | C10: ARS | D10: 11947 | E10: 11947 | F10: 13142 | G10: 13142 | H10: 13142 | I10: 13142 | J10: 14217 | K10: 14719 | L10: 15794 | M10: =+L10*1.08 -> 17057.52 | N10: 17057.5
A11: IPP MAQ Y EQUIPOS | B11: 0.05 | C11: ARS | D11: 312.7 | E11: 329.23979 | F11: 335.51968 | G11: 334.8283 | H11: 372.67591 | I11: 389.62456 | J11: 402.8 | K11: 402.8 | L11: 453 | M11: 528.8 | N11: 595.2
A12: GLP | B12: 0.2 | C12: ARS | D12: 21.25 | E12: 21.25 | F12: 21.25 | G12: 21.25 | H12: 25.5 | I12: 25.5 | J12: 25.5 | K12: 25.5 | L12: 27.32 | M12: 33.15 | N12: 42.5
A13: VARIACION SEPTIEMBRE 20 - ENERO 21 | N13: =+((N9/M9)*B9)+((N10/M10)*B10)+((N11/M11)*B11)+((N12/M12)*B12)-1 -> 0.092876598
D17: VARIACION IPP NIVEL GENERAL
D19: 2019*
D20: Ene | E20: Feb | F20: Mar | G20: Abr | H20: May | I20: Jun | J20: Jul | K20: Ago | L20: Set | M20: Oct | N20: Nov | O20: Dic | P20: Ene | Q20: Feb | R20: Mar | S20: Abr | T20: May | U20: Jun | V20: Jul | W20: Ago
D23: 279.27867 | E23: 288.32666 | F23: 299.58256 | G23: 312.74401 | H23: 329.23979 | I23: 335.51968 | J23: 334.8283 | K23: 372.67591 | L23: 389.62456 | M23: 402.81806 | N23: 423.70048 | O23: 438.12158 | P23: 446.39866 | Q23: 451.38825 | R23: 452.99815 | S23: 446.84813 | T23: 448.22058 | U23: 465.96775 | V23: 484.48425 | W23: 506.1752
D25: NOVIEMBRE 2019 382,4153
D26: OCTUBRE 2019 382,4153
D27: SEPTIEMBRE 2019 373,0503
D28: AGOSTO 2019 356,2684
D29: JULIO 2019 307,5262
D30: JUNIO 2019 302,6643
D31: MAYO 2019 296,0716
D32: ABRIL 2019 287,8562

Sheet Tarifas
A1: TARIFAS SERVICIO HOT WATER OIL 24 HS PCR
A2: Item | B2: Descripción | C2: Precio Base Oct 19 | D2: Variación % Oct 19 / Marzo 20 | E2: Precio Mayo | F2: Variación % Marzo 20 / Sept 20 | G2: Precio Septiembre 20 | H2: Variación % Sept 20 / Ene 21 | I2: Precio Septiembre 20
A3: Desparafinación Oper Combinada | B3: 8 Horas incluye DTM | C3: 104704 | D3: 0.1 | E3: 97977 | F3: 0.1064 | G3: =+E3*(1+F3) -> 108401.75 | H3: 0.0929 | I3: =+G3*(1+H3) -> 118472.28
A4: Desparafinación Oper Simple LC | B4: 3 Horas DTM | C4: 48434 | D4: 0.1 | E4: 45322 | F4: 0.10638779 | G4: =+E4*(1+F4) -> 50143.707 | H4: 0.0929 | I4: =+G4*(1+H4) -> 54802.058
A5: Desparafinación Oper Simple TBG | B5: 5 Horas DTM | C5: 56147 | D5: 0.1 | E5: 52540 | F5: 0.10638779 | G5: =+E5*(1+F5) -> 58129.614 | H5: 0.0929 | I5: =+G5*(1+H5) -> 63529.856
A6: Hora adicional | B6: 1 Hora | C6: 7000 | D6: 0.1 | E6: 6550 | F6: 0.10638779 | G6: =+E6*(1+F6) -> 7246.84 | H6: 0.0929 | I6: =+G6*(1+H6) -> 7920.0715
A7: Hora Operativa asistencia equipo de torre | B7: 1 Hora | C7: 9000 | D7: 0.1 | E7: 8422 | F7: 0.10638779 | G7: =+E7*(1+F7) -> 9317.998 | H7: 0.0929 | I7: =+G7*(1+H7) -> 10183.64
A8: Hora espera asistencia equipo de torre | B8: 1 Hora | C8: 4500 | D8: 0.1 | E8: 4211 | F8: 0.10638779 | G8: =+E8*(1+F8) -> 4658.999 | H8: 0.0929 | I8: =+G8*(1+H8) -> 5091.82
A9: Pruebas Hidraulicas | B9: 1,5 Horas DTM | C9: 30233 | D9: 0.1 | E9: 28290 | F9: 0.10638779 | G9: =+E9*(1+F9) -> 31299.711 | H9: 0.0929 | I9: =+G9*(1+H9) -> 34207.454
A11: TARIFAS SERVICIO PORTACONTENEDORES MENSUAL
A12: Item | B12: Descripción | C12: Precio Base Oct 19 | D12: Variación % Oct 19 / Marzo 20 | E12: Precio Marzo | F12: Variación % Marzo 20 / Sept 20 | G12: Precio Septiembre 20 | H12: Variación % Sept 20 / Enero 21 | I12: Precio Enero 21
A13: Servicio Mensual Equipo Portacontenedores con 20 tachos y Equipo Recuperador | B13: Mensual de 08 00 a 18 00 | C13: 956350 | D13: 0.1 | E13: 894909 | F13: 0.1064 | G13: =+E13*(1+F13) -> 990127.32 | H13: =+H8 -> 0.0929 | I13: =+G13*(1+H13) -> 1082110.1
A14: ·
A15: TARIFAS SERVICIO HOT WATER OIL LUNES A VIERNES DE 08:00 A 17:00
A16: Item | B16: Descripción | C16: Precio Base | D16: Tarifa desde el 21-03-20 | E16: Variación % Marzo 20 / Sept 20 | F16: Precio Septiembre 20 | G16: Variación % Sept 20 / Ene 21 | H16: Precio Enero 21
A17: Movilización: | B17: Desde base a Yacimiento | C17: 0 | D17: 0 | E17: 0.10638779 | F17: =+D17*(1+E17) -> 0 | G17: 0.10638779 | H17: =+F17*(1+G17) -> 0
A18: Servicio Hot Wáter Oil mensual Lunes a viernes con cargas liquidas | B18: De 08:00 a 17:00 | C18: 2350000 | D18: 2303000 | E18: 0.10638779 | F18: =+D18*(1+E18) -> 2548011.1 | G18: =+H13 -> 0.0929 | H18: =+F18*(1+G18) -> 2784721.3
A19: Hora adicional Servicios Hot Water Oil lunes a viernes con cargas liquidas | B19: De 17:00 a 07:59 | C19: 12550 | D19: 12299 | E19: 0.10638779 | F19: =+D19*(1+E19) -> 13607.463 | G19: 0.0929 | H19: =+F19*(1+G19) -> 14871.597
A20: JORNADA ON-CALL HWO L A V | B20: De 08:00 a 17:00 | C20: 115000 | D20: 112700 | E20: 0.10638779 | F20: =+D20*(1+E20) -> 124689.9 | G20: 0.0929 | H20: =+F20*(1+G20) -> 136273.6
A21: JORNADA ON-CALL HWO (S-D-F) | B21: De 08:00 a 17:00 | C21: 125000 | D21: 122500 | E21: 0.10638779 | F21: =+D21*(1+E21) -> 135532.5 | G21: 0.0929 | H21: =+F21*(1+G21) -> 148123.47
A24: TARIFAS SERVICIO HOT WATER OIL LUNES A VIERNES DE 08:00 A 17:00 BATERIA 20
A25: Item | B25: Descripción | G25: Tarifa desde el 21-03-20 | H25: Variación % Marzo 20 / Sept 20 | I25: Precio Septiembre 20
A26: Movilización: | B26: Desde base a Yacimiento | G26: 0 | H26: 0.10638779 | I26: =+G26*(1+H26) -> 0
A27: Servicio Hot Wáter Oil mensual Lunes a viernes con cargas liquidas | B27: De 08:00 a 17:00 | G27: 2115000 | H27: 0.10638779 | I27: =+G27*(1+H27) -> 2340010.2
A28: Hora adicional Servicios Hot Water Oil lunes a viernes con cargas liquidas | B28: De 17:00 a 07:59 | G28: 11295 | H28: 0.10638779 | I28: =+G28*(1+H28) -> 12496.65
A29: JORNADA ON-CALL HWO L A V | B29: De 08:00 a 17:00 | G29: 103500 | H29: 0.10638779 | I29: =+G29*(1+H29) -> 114511.14
A30: JORNADA ON-CALL HWO (S-D-F) | B30: De 08:00 a 17:00 | G30: 112500 | H30: 0.10638779 | I30: =+G30*(1+H30) -> 124468.63

Sheet Gas Oil
A2: Resultados de la búsqueda
A3: Período: | B3: Abril de 2019
A4: Provincia: | B4: NEUQUEN
A5: Localidad: | B5: NEUQUEN
A6: Razon Social: | B6: (Todos)
A7: Tipo de precio a visualizar: | B7: Todos los precios
A8: Derivado: | B8: Gas Oil Grado 2
A9: Canal de comercialización destino: | B9: Al público
A10: Bandera: | B10: YPF
A12: Primera Página | E12: Última Página
A13: Localidad | B13: Derivado | C13: Boca de expendio | D13: Dirección | E13: Bandera | F13: Precio sin impuesto | G13: Precio final | H13: Volumen informado (m3) | I13: Exento
A14: NEUQUEN | B14: Gas Oil Grado 2 | C14: NEUQUEN PETRO OESTE S.R.L. | D14: MANUEL BELGRANO 2995 | E14: YPF | F14: 29.0325 | G14: 40880 | H14: 77.93 | I14: NO
A15: Primera Página | E15: Última Página
A18: Resultados de la búsqueda
A19: Período: | B19: Marzo de 2019
A20: Provincia: | B20: NEUQUEN
A21: Localidad: | B21: NEUQUEN
A22: Razon Social: | B22: (Todos)
A23: Tipo de precio a visualizar: | B23: Todos los precios
A24: Derivado: | B24: Gas Oil Grado 2
A25: Canal de comercialización destino: | B25: Al público
A26: Bandera: | B26: YPF
A28: Primera Página | E28: Última Página
A29: Localidad | B29: Derivado | C29: Boca de expendio | D29: Dirección | E29: Bandera | F29: Precio sin impuesto
A30: NEUQUEN | B30: Gas Oil Grado 2 | C30: NEUQUEN PETRO OESTE S.R.L. | D30: ISLAS MALVINAS E ILLIA | E30: YPF | F30: 27.2517
A33: Resultados de la búsqueda
A34: Período: | B34: Febrero de 2019
A36: Localidad | B36: Derivado | C36: Boca de expendio | D36: Dirección | E36: Bandera | F36: Precio sin impuesto
A37: NEUQUEN | B37: Gas Oil Grado 2 | C37: NEUQUEN PETRO OESTE S.R.L. | D37: ISLAS MALVINAS E ILLIA | E37: YPF | F37: 26.6617
A41: Resultados de la búsqueda
A42: Período: | B42: Mayo de 2019
A43: Localidad | B43: Derivado | C43: Boca de expendio | D43: Dirección | E43: Bandera | F43: Precio sin impuesto
A44: NEUQUEN | B44: Gas Oil Grado 3 | C44: NEUQUEN PETRO OESTE SRL | D44: Ruta Autovía Circunvalación KM 1.458,4 | E44: YPF | F44: 36.4989
A47: Resultados de la búsqueda
A48: Período: | B48: Junio de 2019
A49: Localidad | B49: Derivado | C49: Boca de expendio | D49: Dirección | E49: Bandera | F49: Precio sin impuesto
A50: NEUQUEN | B50: Gas Oil Grado 3 | C50: NEUQUEN PETRO OESTE SRL | D50: Ruta Autovía Circunvalación KM 1.458,4 | E50: YPF | F50: 37.1366
A52: 43647
A53: Localidad | B53: Derivado | C53: Boca de expendio | D53: Dirección | E53: Bandera | F53: Precio sin impuesto
A54: NEUQUEN | B54: Gas Oil Grado 3 | C54: NEUQUEN PETRO OESTE S.R.L. | D54: SAN MARTIN Y SOLALIQUE | E54: YPF | F54: 37.843
A56: 43678
A57: Localidad | B57: Derivado | C57: Boca de expendio | D57: Dirección | E57: Bandera | F57: Precio sin impuesto
A58: NEUQUEN | B58: Gas Oil Grado 3 | C58: NEUQUEN PETRO OESTE S.R.L. | D58: MANUEL BELGRANO 2995 | E58: YPF | F58: 37.9323
A60: 43709
A61: Localidad | B61: Derivado | C61: Boca de expendio | D61: Dirección | E61: Bandera | F61: Precio sin impuesto
A62: NEUQUEN | B62: Gas Oil Grado 3 | C62: NEUQUEN PETRO OESTE S.R.L. | D62: MANUEL BELGRANO 2995 | E62: YPF | F62: 38.5225
A65: Localidad | B65: Derivado | C65: Boca de expendio | D65: Dirección | E65: Bandera | F65: Precio sin impuesto
A66: NEUQUEN | B66: Gas Oil Grado 3 | C66: NEUQUEN PETRO OESTE S.R.L. | D66: MANUEL BELGRANO 2995 | E66: YPF | F66: 39.3637
A67: Primera Página | E67: Última Página
A69: Primera Página | E69: Última Página
A70: Localidad | B70: Derivado | C70: Boca de expendio | D70: Dirección | E70: Bandera | F70: Precio sin impuesto
A71: NEUQUEN | B71: Gas Oil Grado 3 | C71: NEUQUEN PETRO OESTE S.R.L. | D71: MANUEL BELGRANO 2995 | E71: YPF | F71: 59.2059
A72: Primera Página | E72: Última Página

Sheet Indec
A50: VARIACION IPP NIVEL GENERAL
A52: 2019*
A53: Ene | B53: Feb | C53: Mar | D53: Abr | E53: May | F53: Jun | G53: Jul | H53: Ago | I53: Set
A54: 279.27867 | B54: 288.32666 | C54: 299.58256 | D54: 312.74401 | E54: 329.23979 | F54: 335.51968 | G54: 334.8283 | H54: 372.67591 | I54: 389.62456
I56: =+I54/D54-1 -> 0.24582583

Sheet Hoja3
A1: CALCULO DE RETROACTIVO OCTUBRE 2020 A ENERO 2021 POR DIFRERENCIA DE TARIFAS
A2: Item | B2: Descripción | C2: Precio Mayo | D2: Variación % Marzo 20 / Sept 20 | E2: Precio Septiembre 20 | F2: Dif Tarifas | G2: Horas Octubre 2020 | H2: Dif Octubre $ | I2: Horas Nov 2020 | J2: Dif Nov $ | K2: Horas DIC 2020 | L2: Dif Dic $ | M2: Horas Ene 2020 | N2: Dif Ener $ | O2: Total Rectroactivo Octu 20 / Enero 21
A3: Desparafinación Oper Combinada | B3: 8 Horas incluye DTM | C3: 97977 | D3: 0.1064 | E3: =+C3*(1+D3) -> 108401.75 | F3: =+E3-C3 -> 10424.753 | G3: 13 | H3: =+F3*G3 -> 135521.79 | I3: 12 | J3: =+I3*F3 -> 125097.03 | K3: 10 | L3: =+K3*F3 -> 104247.53 | M3: 13 | N3: =+M3*F3 -> 135521.79 | O3: =+N3+L3+J3+H3 -> 500388.13
A4: Desparafinación Oper Simple LC | B4: 3 Horas DTM | C4: 45322 | D4: 0.10638779 | E4: =+C4*(1+D4) -> 50143.707 | F4: =+E4-C4 -> 4821.7074 | G4: 49 | H4: =+F4*G4 -> 236263.66 | I4: 48 | J4: =+I4*F4 -> 231441.95 | K4: 31 | L4: =+K4*F4 -> 149472.93 | M4: 26 | N4: =+M4*F4 -> 125364.39 | O4: =+N4+L4+J4+H4 -> 742542.94
A5: Desparafinación Oper Simple TBG | B5: 5 Horas DTM | C5: 52540 | D5: 0.10638779 | E5: =+C5*(1+D5) -> 58129.614 | F5: =+E5-C5 -> 5589.6145 | G5: 15 | H5: =+F5*G5 -> 83844.217 | I5: 23 | J5: =+I5*F5 -> 128561.13 | K5: 36 | L5: =+K5*F5 -> 201226.12 | M5: 34 | N5: =+M5*F5 -> 190046.89 | O5: =+N5+L5+J5+H5 -> 603678.36
A6: Hora adicional | B6: 1 Hora | C6: 6550 | D6: 0.10638779 | E6: =+C6*(1+D6) -> 7246.84 | F6: =+E6-C6 -> 696.84002 | G6: 139.5 | H6: =+F6*G6 -> 97209.183 | I6: 139 | J6: =+I6*F6 -> 96860.763 | K6: 79 | L6: =+K6*F6 -> 55050.362 | M6: 110.5 | N6: =+M6*F6 -> 77000.822 | O6: =+N6+L6+J6+H6 -> 326121.13
A7: Hora Operativa asistencia equipo de torre | B7: 1 Hora | C7: 8422 | D7: 0.10638779 | E7: =+C7*(1+D7) -> 9317.998 | F7: =+E7-C7 -> 895.99796 | G7: 13.5 | H7: =+F7*G7 -> 12095.972 | I7: 65.5 | J7: =+I7*F7 -> 58687.867 | K7: 28 | L7: =+K7*F7 -> 25087.943 | M7: 32.5 | N7: =+M7*F7 -> 29119.934 | O7: =+N7+L7+J7+H7 -> 124991.72
A8: Hora espera asistencia equipo de torre | B8: 1 Hora | C8: 4211 | D8: 0.10638779 | E8: =+C8*(1+D8) -> 4658.999 | F8: =+E8-C8 -> 447.99898 | H8: =+F8*G8 -> 0 | J8: =+I8*F8 -> 0 | K8: 0 | L8: =+K8*F8 -> 0 | M8: 0 | N8: =+M8*F8 -> 0 | O8: =+N8+L8+J8+H8 -> 0
A9: Pruebas Hidraulicas | B9: 1,5 Horas DTM | C9: 28290 | D9: 0.10638779 | E9: =+C9*(1+D9) -> 31299.711 | F9: =+E9-C9 -> 3009.7106 | G9: 2 | H9: =+F9*G9 -> 6019.4211 | I9: 6 | J9: =+I9*F9 -> 18058.263 | K9: 14 | L9: =+K9*F9 -> 42135.948 | M9: 13 | N9: =+F9 -> 3009.7106 | O9: =+N9+L9+J9+H9 -> 69223.343
A10: Servicio Mensual Equipo Portacontenedores con 20 tachos y Equipo Recuperador | C10: 894909 | D10: 0.1064 | E10: =+C10*(1+D10) -> 990127.32 | F10: =+E10-C10 -> 95218.318 | G10: 0.35 | H10: =+F10*G10 -> 33326.411 | I10: 0.35 | J10: =+I10*F10 -> 33326.411 | K10: 0.5 | L10: =+K10*F10 -> 47609.159 | M10: 0.5 | N10: =+M10*F10 -> 47609.159 | O10: =+N10+L10+J10+H10 -> 161871.14
A12: Diferencia de Tarifas | H12: =SUM(H3:H11) -> 604280.65 | J12: =SUM(J3:J11) -> 692033.42 | L12: =SUM(L3:L11) -> 624829.99 | N12: =SUM(N3:N10) -> 607672.7 | O12: =SUM(O3:O10) -> 2528816.8

Sheet OCT
A1: Cantidad | B1: Concepto | C1: Importe Unitario | D1: Subtotal
A2: 49000 | B2: DESPARAFINACION L/COND 3 HORAS | C2: 45322 | D2: 2220778
A3: 15000 | B3: DESPARAFINACION TBG 5 HORAS | C3: 52540 | D3: 788100
A4: 13500 | B4: HS ADICIONAL AET | C4: 8422 | D4: 113697
A5: 139500 | B5: HS ADICIONAL HWO | C5: 6550 | D5: 913725
A6: 13000 | B6: OPERACION COMBINADA (HWO) | C6: 97977 | D6: 1273701
A7: 2000 | B7: P HERMATICIDAD 1.5 HS | C7: 28290 | D7: 56580
A8: 0.350 | B8: SERVICIO MENSUAL PORTA CONTENE | C8: 894905 | D8: 313216.75
A9: 5679797.8
A10: 1,5 Horas DTM

Sheet NOV
A1: Cantidad | B1: Concepto | C1: Importe Unitario | D1: Subtotal
A2: 48000 | B2: DESPARAFINACION L/COND 3 HORAS | C2: 45322 | D2: 2175456
A3: 23000 | B3: DESPARAFINACION TBG 5 HORAS | C3: 52540 | D3: 1208420
A4: 65500 | B4: HS ADICIONAL AET | C4: 8422 | D4: 551641
A5: 139000 | B5: HS ADICIONAL HWO | C5: 6550 | D5: 910450
A6: 12000 | B6: OPERACION COMBINADA (HWO) | C6: 97977 | D6: 1175724
A7: 6000 | B7: P HERMATICIDAD 1.5 HS | C7: 28290 | D7: 169740
A8: 0.350 | B8: SERVICIO MENSUAL PORTA CONTENE | C8: 894905 | D8: 313216.75
A9: 6504647.8

Sheet DDIC
A1: Cantidad | B1: Concepto | C1: Importe Unitario | D1: Subtotal
A2: 31000 | B2: DESPARAFINACION L/COND 3 HORAS | C2: 45322 | D2: 1404982
A3: 36000 | B3: DESPARAFINACION TBG 5 HORAS | C3: 52540 | D3: 1891440
A4: 28000 | B4: HS ADICIONAL AET | C4: 8422 | D4: 235816
A5: 79000 | B5: HS ADICIONAL HWO | C5: 6550 | D5: 517450
A6: 10000 | B6: OPERACION COMBINADA (HWO) | C6: 97977 | D6: 979770
A7: 14000 | B7: P HERMATICIDAD 1.5 HS | C7: 28290 | D7: 396060
A8: 0.500 | B8: SERVICIO MENSUAL PORTA CONTENE | C8: 894905 | D8: 447452.5
A9: 5872970.5
A11: Descripcion

Sheet ENE 20
A2: Cantidad | B2: Concepto | C2: Importe Unitario | E2: Subtotal
A3: 26000 | B3: DESPARAFINACION L/COND 3 HORAS | C3: 45322 | E3: 1178372
A4: 34000 | B4: DESPARAFINACION TBG 5 HORAS | C4: 52540 | E4: 1786360
A5: 32500 | B5: HS ADICIONAL AET | C5: 8422 | E5: 273715
A6: 110500 | B6: HS ADICIONAL HWO | C6: 6550 | E6: 723775
A7: 13000 | B7: OPERACION COMBINADA (HWO) | C7: 97977 | E7: 1273701
A8: 13000 | B8: P HERMATICIDAD 1.5 HS | C8: 28290 | E8: 367770
A9: 0.500 | B9: SERVICIO MENSUAL PORTA CONTENE | C9: 894905 | E9: 447452.5
A10: 6051145.5
